BEGIN:VCALENDAR
VERSION:2.0
PRODID:-//musée des beaux-arts et d&#039;archéologie de Besançon - ECPv5.14.2.1//NONSGML v1.0//EN
CALSCALE:GREGORIAN
METHOD:PUBLISH
X-WR-CALNAME:musée des beaux-arts et d&#039;archéologie de Besançon
X-ORIGINAL-URL:https://www.mbaa.besancon.fr
X-WR-CALDESC:évènements pour musée des beaux-arts et d&#039;archéologie de Besançon
BEGIN:VTIMEZONE
TZID:Europe/Paris
BEGIN:DAYLIGHT
TZOFFSETFROM:+0100
TZOFFSETTO:+0200
TZNAME:CEST
DTSTART:20230326T010000
END:DAYLIGHT
BEGIN:STANDARD
TZOFFSETFROM:+0200
TZOFFSETTO:+0100
TZNAME:CET
DTSTART:20231029T010000
END:STANDARD
BEGIN:DAYLIGHT
TZOFFSETFROM:+0100
TZOFFSETTO:+0200
TZNAME:CEST
DTSTART:20240331T010000
END:DAYLIGHT
BEGIN:STANDARD
TZOFFSETFROM:+0200
TZOFFSETTO:+0100
TZNAME:CET
DTSTART:20241027T010000
END:STANDARD
END:VTIMEZONE
BEGIN:VEVENT
DTSTART;TZID=Europe/Paris:20231215T140000
DTEND;TZID=Europe/Paris:20240129T180000
DTSTAMP:20260423T023044
CREATED:20230920T083245Z
LAST-MODIFIED:20230920T083245Z
UID:8257-1702648800-1706551200@www.mbaa.besancon.fr
SUMMARY:Restitution / En partenariat avec les Groupes d'entraide mutuelle bisontins
DESCRIPTION:En lien avec l’exposition “Les lettres séquanes”\, un groupe d’adultes adhérents de Groupes d’Entraide Mutuelle bisontins revisite le passé et ses objets\, au cours d’une série d’ateliers créatifs. \nExposition de restitution du 15 décembre au 29 janvier.
URL:https://www.mbaa.besancon.fr/event/restitution-en-partenariat-avec-les-groupes-dentraide-mutuelle-bisontins/
CATEGORIES:Partenariat,Restitution,tout public
END:VEVENT
BEGIN:VEVENT
DTSTART;TZID=Europe/Paris:20240114T080000
DTEND;TZID=Europe/Paris:20240114T170000
DTSTAMP:20260423T023044
CREATED:20230825T143045Z
LAST-MODIFIED:20230825T143045Z
UID:8014-1705219200-1705251600@www.mbaa.besancon.fr
SUMMARY:Visite guidée de l'exposition "Les Lettres séquanes"
DESCRIPTION:Gratuit – Réservation sur https://vosdemarches.grandbesancon.fr/billetterie/mbaa
URL:https://www.mbaa.besancon.fr/event/visite-guidee-de-lexposition-les-lettres-sequanes-8/
CATEGORIES:Archéologie,expo,tout public,visite guidée
END:VEVENT
BEGIN:VEVENT
DTSTART;TZID=Europe/Paris:20240114T103000
DTEND;TZID=Europe/Paris:20240114T113000
DTSTAMP:20260423T023044
CREATED:20230825T152814Z
LAST-MODIFIED:20230825T152814Z
UID:8052-1705228200-1705231800@www.mbaa.besancon.fr
SUMMARY:Éveil tout-petits 18 mois-3 ans
DESCRIPTION:Ici on scrute les animaux dans un ou deux tableaux\, avec des bruits\, des comptines\, des histoires\, des marionnettes… \nAmenez votre propre doudou (chien\, vache\, mouton\, chèvre\, cochon ou cheval de préférence) ! \n  \nGratuit – Réservation sur https://vosdemarches.grandbesancon.fr/billetterie/mbaa
URL:https://www.mbaa.besancon.fr/event/eveil-tout-petits-18-mois-3-ans-19/
CATEGORIES:tout-petits,visite guidée
END:VEVENT
BEGIN:VEVENT
DTSTART;TZID=Europe/Paris:20240114T163000
DTEND;TZID=Europe/Paris:20240114T173000
DTSTAMP:20260423T023044
CREATED:20230825T133353Z
LAST-MODIFIED:20230825T133353Z
UID:7968-1705249800-1705253400@www.mbaa.besancon.fr
SUMMARY:Visite guidée "Les Incontournables du musée"
DESCRIPTION:Gratuit – Réservation sur https://vosdemarches.grandbesancon.fr/billetterie/mbaa
URL:https://www.mbaa.besancon.fr/event/visite-guidee-les-incontournables-du-musee-100/
CATEGORIES:tout public,visite guidée
END:VEVENT
END:VCALENDAR