BEGIN:VCALENDAR
VERSION:2.0
PRODID:-//musée des beaux-arts et d&#039;archéologie de Besançon - ECPv5.14.2.1//NONSGML v1.0//EN
CALSCALE:GREGORIAN
METHOD:PUBLISH
X-WR-CALNAME:musée des beaux-arts et d&#039;archéologie de Besançon
X-ORIGINAL-URL:https://www.mbaa.besancon.fr
X-WR-CALDESC:évènements pour musée des beaux-arts et d&#039;archéologie de Besançon
BEGIN:VTIMEZONE
TZID:Europe/Paris
BEGIN:DAYLIGHT
TZOFFSETFROM:+0100
TZOFFSETTO:+0200
TZNAME:CEST
DTSTART:20230326T010000
END:DAYLIGHT
BEGIN:STANDARD
TZOFFSETFROM:+0200
TZOFFSETTO:+0100
TZNAME:CET
DTSTART:20231029T010000
END:STANDARD
BEGIN:DAYLIGHT
TZOFFSETFROM:+0100
TZOFFSETTO:+0200
TZNAME:CEST
DTSTART:20240331T010000
END:DAYLIGHT
BEGIN:STANDARD
TZOFFSETFROM:+0200
TZOFFSETTO:+0100
TZNAME:CET
DTSTART:20241027T010000
END:STANDARD
END:VTIMEZONE
BEGIN:VEVENT
DTSTART;TZID=Europe/Paris:20231215T140000
DTEND;TZID=Europe/Paris:20240129T180000
DTSTAMP:20260423T035516
CREATED:20230920T083245Z
LAST-MODIFIED:20230920T083245Z
UID:8257-1702648800-1706551200@www.mbaa.besancon.fr
SUMMARY:Restitution / En partenariat avec les Groupes d'entraide mutuelle bisontins
DESCRIPTION:En lien avec l’exposition “Les lettres séquanes”\, un groupe d’adultes adhérents de Groupes d’Entraide Mutuelle bisontins revisite le passé et ses objets\, au cours d’une série d’ateliers créatifs. \nExposition de restitution du 15 décembre au 29 janvier.
URL:https://www.mbaa.besancon.fr/event/restitution-en-partenariat-avec-les-groupes-dentraide-mutuelle-bisontins/
CATEGORIES:Partenariat,Restitution,tout public
END:VEVENT
BEGIN:VEVENT
DTSTART;TZID=Europe/Paris:20231217T103000
DTEND;TZID=Europe/Paris:20231217T123000
DTSTAMP:20260423T035516
CREATED:20230901T084703Z
LAST-MODIFIED:20230901T084703Z
UID:8134-1702809000-1702816200@www.mbaa.besancon.fr
SUMMARY:Les P'tits curieux 3-6 ans / Visite-atelier "Les p'tits cailloux"
DESCRIPTION:« En 50 avant Jésus Christ\, toute la Gaule est occupée. Toute ? » Oui ! Même Besançon\, qui s’appelle alors Vesontio. Les Gallo-romains y construisent de très riches maisons. Découverte des mosaïques conservées au musée\, puis place à la pratique \nGratuit \nSur réservation : https://vosdemarches.grandbesancon.fr/billetterie/mbaa
URL:https://www.mbaa.besancon.fr/event/les-ptits-curieux-3-6-ans-visite-atelier-les-ptits-cailloux-6/
CATEGORIES:atelier,jeune public,visite guidée
END:VEVENT
BEGIN:VEVENT
DTSTART;TZID=Europe/Paris:20231217T150000
DTEND;TZID=Europe/Paris:20231217T160000
DTSTAMP:20260423T035516
CREATED:20230825T122657Z
LAST-MODIFIED:20230825T122657Z
UID:7936-1702825200-1702828800@www.mbaa.besancon.fr
SUMMARY:Visite guidée de l'exposition "La Grande Mademoiselle"
DESCRIPTION:Gratuit – Réservation sur https://vosdemarches.grandbesancon.fr/billetterie/mbaa
URL:https://www.mbaa.besancon.fr/event/visite-guidee-de-lexposition-la-grande-mademoiselle-28/
CATEGORIES:expo,Vie du musée,visite guidée
END:VEVENT
BEGIN:VEVENT
DTSTART;TZID=Europe/Paris:20231217T163000
DTEND;TZID=Europe/Paris:20231217T173000
DTSTAMP:20260423T035516
CREATED:20230825T133131Z
LAST-MODIFIED:20230825T133131Z
UID:7964-1702830600-1702834200@www.mbaa.besancon.fr
SUMMARY:Visite guidée "Les Incontournables du musée"
DESCRIPTION:Gratuit – Réservation sur https://vosdemarches.grandbesancon.fr/billetterie/mbaa
URL:https://www.mbaa.besancon.fr/event/visite-guidee-les-incontournables-du-musee-98/
CATEGORIES:tout public,visite guidée
END:VEVENT
END:VCALENDAR