BEGIN:VCALENDAR
VERSION:2.0
PRODID:-//musée des beaux-arts et d&#039;archéologie de Besançon - ECPv5.14.2.1//NONSGML v1.0//EN
CALSCALE:GREGORIAN
METHOD:PUBLISH
X-WR-CALNAME:musée des beaux-arts et d&#039;archéologie de Besançon
X-ORIGINAL-URL:https://www.mbaa.besancon.fr
X-WR-CALDESC:évènements pour musée des beaux-arts et d&#039;archéologie de Besançon
BEGIN:VTIMEZONE
TZID:Europe/Paris
BEGIN:DAYLIGHT
TZOFFSETFROM:+0100
TZOFFSETTO:+0200
TZNAME:CEST
DTSTART:20230326T010000
END:DAYLIGHT
BEGIN:STANDARD
TZOFFSETFROM:+0200
TZOFFSETTO:+0100
TZNAME:CET
DTSTART:20231029T010000
END:STANDARD
END:VTIMEZONE
BEGIN:VEVENT
DTSTART;TZID=Europe/Paris:20231127T100000
DTEND;TZID=Europe/Paris:20231203T180000
DTSTAMP:20260423T035515
CREATED:20230901T113126Z
LAST-MODIFIED:20230901T113126Z
UID:8200-1701079200-1701626400@www.mbaa.besancon.fr
SUMMARY:Restitution du projet "Village du monde" / Partenariat avec l'Association Miroirs du monde
DESCRIPTION:En lien avec l’association “Miroirs du Monde”\, un groupe d’adultes participe à un cycle d’ateliers autour du plurilinguisme. Une restitution de ce projet est présentée au Centre Nelson Mandela à l’occasion de la manifestation “Village du Monde”\, du 27 novembre au 3 décembre. \n  \nÀ voir au Centre Nelson Mandela
URL:https://www.mbaa.besancon.fr/event/restitution-du-projet-village-du-monde-partenariat-avec-lassociation-miroirs-du-monde/
CATEGORIES:atelier,hors les murs,Partenariat
END:VEVENT
BEGIN:VEVENT
DTSTART;TZID=Europe/Paris:20231127T100000
DTEND;TZID=Europe/Paris:20231202T180000
DTSTAMP:20260423T035515
CREATED:20231006T081044Z
LAST-MODIFIED:20231006T081044Z
UID:8335-1701079200-1701540000@www.mbaa.besancon.fr
SUMMARY:Restitution "Qu'est-ce à dire que cela ?" / En partenariat avec l'association Miroirs du Monde
DESCRIPTION:En lien avec l’association Miroirs du Monde\, un groupe d’adultes participe à un cycle d’ateliers autour du plurilinguisme\, à la découverte de la langue des musées … \nUne restitution de ce projet est présentée au Centre Nelson Mandela à l’occasion de la manifestation “Village du Monde”\, du 27 novembre au 2 décembre.
URL:https://www.mbaa.besancon.fr/event/restitution-quest-ce-a-dire-que-cela-en-partenariat-avec-lassociation-miroirs-du-monde/
CATEGORIES:atelier,hors les murs,Restitution
END:VEVENT
BEGIN:VEVENT
DTSTART;TZID=Europe/Paris:20231129T141500
DTEND;TZID=Europe/Paris:20231129T161500
DTSTAMP:20260423T035515
CREATED:20230901T081002Z
LAST-MODIFIED:20230901T081002Z
UID:8088-1701267300-1701274500@www.mbaa.besancon.fr
SUMMARY:Les Grands explorateurs 7-12 ans / Visite-atelier "À vos vœux\, prêts\, partez !"
DESCRIPTION:Visite de l’exposition Les lettres séquanes\,  suivie d’un atelier pour comprendre la création et la pratique de l’ex-voto l’époque gallo-romaine. \nTarif : 5€ \nSur réservation : https://vosdemarches.grandbesancon.fr/billetterie/mbaa
URL:https://www.mbaa.besancon.fr/event/les-grands-explorateurs-7-12-ans-visite-atelier-a-vos-voeux-prets-partez-2/
CATEGORIES:atelier,jeune public,visite guidée
END:VEVENT
END:VCALENDAR