BEGIN:VCALENDAR
VERSION:2.0
PRODID:-//musée des beaux-arts et d&#039;archéologie de Besançon - ECPv5.14.2.1//NONSGML v1.0//EN
CALSCALE:GREGORIAN
METHOD:PUBLISH
X-WR-CALNAME:musée des beaux-arts et d&#039;archéologie de Besançon
X-ORIGINAL-URL:https://www.mbaa.besancon.fr
X-WR-CALDESC:évènements pour musée des beaux-arts et d&#039;archéologie de Besançon
BEGIN:VTIMEZONE
TZID:Europe/Paris
BEGIN:DAYLIGHT
TZOFFSETFROM:+0100
TZOFFSETTO:+0200
TZNAME:CEST
DTSTART:20230326T010000
END:DAYLIGHT
BEGIN:STANDARD
TZOFFSETFROM:+0200
TZOFFSETTO:+0100
TZNAME:CET
DTSTART:20231029T010000
END:STANDARD
END:VTIMEZONE
BEGIN:VEVENT
DTSTART;TZID=Europe/Paris:20231126T103000
DTEND;TZID=Europe/Paris:20231126T123000
DTSTAMP:20260423T051723
CREATED:20230901T082818Z
LAST-MODIFIED:20230901T082818Z
UID:8112-1700994600-1701001800@www.mbaa.besancon.fr
SUMMARY:Les Grands explorateurs 7-12 ans / Visite-atelier "Par Osiris !"
DESCRIPTION:Découverte de l’Egypte ancienne et de son écriture si particulière\, le hiéroglyphe. \nExpérimentation en atelier\, au calame sur papyrus. \nTarif : 5€ \nSur réservation : https://vosdemarches.grandbesancon.fr/billetterie/mbaa
URL:https://www.mbaa.besancon.fr/event/les-grands-explorateurs-7-12-ans-visite-atelier-par-osiris-8/
CATEGORIES:atelier,jeune public,visite guidée
END:VEVENT
BEGIN:VEVENT
DTSTART;TZID=Europe/Paris:20231126T150000
DTEND;TZID=Europe/Paris:20231126T160000
DTSTAMP:20260423T051723
CREATED:20230825T122545Z
LAST-MODIFIED:20230825T122545Z
UID:7934-1701010800-1701014400@www.mbaa.besancon.fr
SUMMARY:Visite guidée de l'exposition "La Grande Mademoiselle"
DESCRIPTION:Gratuit – Réservation sur https://vosdemarches.grandbesancon.fr/billetterie/mbaa
URL:https://www.mbaa.besancon.fr/event/visite-guidee-de-lexposition-la-grande-mademoiselle-27/
CATEGORIES:expo,Vie du musée,visite guidée
END:VEVENT
BEGIN:VEVENT
DTSTART;TZID=Europe/Paris:20231126T163000
DTEND;TZID=Europe/Paris:20231126T173000
DTSTAMP:20260423T051723
CREATED:20230825T132818Z
LAST-MODIFIED:20230825T132818Z
UID:7958-1701016200-1701019800@www.mbaa.besancon.fr
SUMMARY:Visite guidée "Les Incontournables du musée"
DESCRIPTION:Gratuit – Réservation sur https://vosdemarches.grandbesancon.fr/billetterie/mbaa
URL:https://www.mbaa.besancon.fr/event/visite-guidee-les-incontournables-du-musee-95/
CATEGORIES:tout public,visite guidée
END:VEVENT
END:VCALENDAR