BEGIN:VCALENDAR
VERSION:2.0
PRODID:-//musée des beaux-arts et d&#039;archéologie de Besançon - ECPv5.14.2.1//NONSGML v1.0//EN
CALSCALE:GREGORIAN
METHOD:PUBLISH
X-WR-CALNAME:musée des beaux-arts et d&#039;archéologie de Besançon
X-ORIGINAL-URL:https://www.mbaa.besancon.fr
X-WR-CALDESC:évènements pour musée des beaux-arts et d&#039;archéologie de Besançon
BEGIN:VTIMEZONE
TZID:Europe/Paris
BEGIN:DAYLIGHT
TZOFFSETFROM:+0100
TZOFFSETTO:+0200
TZNAME:CEST
DTSTART:20230326T010000
END:DAYLIGHT
BEGIN:STANDARD
TZOFFSETFROM:+0200
TZOFFSETTO:+0100
TZNAME:CET
DTSTART:20231029T010000
END:STANDARD
END:VTIMEZONE
BEGIN:VEVENT
DTSTART;TZID=Europe/Paris:20231125T143000
DTEND;TZID=Europe/Paris:20231125T153000
DTSTAMP:20260423T051619
CREATED:20230901T111527Z
LAST-MODIFIED:20230901T111527Z
UID:8186-1700922600-1700926200@www.mbaa.besancon.fr
SUMMARY:Visite du cabinet d'arts graphiques
DESCRIPTION:Entrez dans le Cabinet des arts graphiques du MBAA\, lieu dédié à la conservation des dessins et des estampes\, habituellement fermé au public\, et découvrez tous ses secrets : sa création sous le directorat de Marie-Lucie Cornillot\, son architecture\, ses décors et une sélection d’œuvres exceptionnelles présentées pour l’occasion ! \nGratuit \nSur réservation : https://vosdemarches.grandbesancon.fr/billetterie/mbaa
URL:https://www.mbaa.besancon.fr/event/visite-du-cabinet-darts-graphiques-2/
CATEGORIES:art graphique,tout public,visite guidée
END:VEVENT
END:VCALENDAR