BEGIN:VCALENDAR
VERSION:2.0
PRODID:-//musée des beaux-arts et d&#039;archéologie de Besançon - ECPv5.14.2.1//NONSGML v1.0//EN
CALSCALE:GREGORIAN
METHOD:PUBLISH
X-WR-CALNAME:musée des beaux-arts et d&#039;archéologie de Besançon
X-ORIGINAL-URL:https://www.mbaa.besancon.fr
X-WR-CALDESC:évènements pour musée des beaux-arts et d&#039;archéologie de Besançon
BEGIN:VTIMEZONE
TZID:Europe/Paris
BEGIN:DAYLIGHT
TZOFFSETFROM:+0100
TZOFFSETTO:+0200
TZNAME:CEST
DTSTART:20230326T010000
END:DAYLIGHT
BEGIN:STANDARD
TZOFFSETFROM:+0200
TZOFFSETTO:+0100
TZNAME:CET
DTSTART:20231029T010000
END:STANDARD
END:VTIMEZONE
BEGIN:VEVENT
DTSTART;TZID=Europe/Paris:20231115T183000
DTEND;TZID=Europe/Paris:20231115T200000
DTSTAMP:20260423T051618
CREATED:20230920T082911Z
LAST-MODIFIED:20231010T071241Z
UID:8255-1700073000-1700078400@www.mbaa.besancon.fr
SUMMARY:"Matins rouges" / Par la Compagnie Teraluna - Spécial scolaires
DESCRIPTION:Lundi 13 novembre à 18h30 : tout public à partir de 10 ans \nMardi 14 novembre à 14h30 (séance scolaire) \nMercredi 15 novembre à 18h30 : tout public à partir de 10 ans \nCe spectacle emprunte des œuvres issues de plusieurs collections beaux-arts afin de raconter une histoire…que nous vous invitons à découvrir. \nÉcriture et interprétation – Sébastien Barberon / Scénographie vidéo – Carlos Visual Suspect / Régie lumière – Catherine Chavériat / régie son et vidéo – Marc Barberon / Scénographie et costume – Florence Bruchon / Composition musicale – Sofiane Messabih \nRéservation sur https://vosdemarches.grandbesancon.fr/billetterie/mbaa
URL:https://www.mbaa.besancon.fr/event/matins-rouges-par-la-compagnie-teraluna-special-scolaires/
CATEGORIES:Théâtre,tout public
END:VEVENT
END:VCALENDAR