BEGIN:VCALENDAR
VERSION:2.0
PRODID:-//musée des beaux-arts et d&#039;archéologie de Besançon - ECPv5.14.2.1//NONSGML v1.0//EN
CALSCALE:GREGORIAN
METHOD:PUBLISH
X-WR-CALNAME:musée des beaux-arts et d&#039;archéologie de Besançon
X-ORIGINAL-URL:https://www.mbaa.besancon.fr
X-WR-CALDESC:évènements pour musée des beaux-arts et d&#039;archéologie de Besançon
BEGIN:VTIMEZONE
TZID:Europe/Paris
BEGIN:DAYLIGHT
TZOFFSETFROM:+0100
TZOFFSETTO:+0200
TZNAME:CEST
DTSTART:20230326T010000
END:DAYLIGHT
BEGIN:STANDARD
TZOFFSETFROM:+0200
TZOFFSETTO:+0100
TZNAME:CET
DTSTART:20231029T010000
END:STANDARD
END:VTIMEZONE
BEGIN:VEVENT
DTSTART;TZID=Europe/Paris:20231105T103000
DTEND;TZID=Europe/Paris:20231105T113000
DTSTAMP:20260423T051735
CREATED:20230825T145323Z
LAST-MODIFIED:20230825T145323Z
UID:8032-1699180200-1699183800@www.mbaa.besancon.fr
SUMMARY:Visite famille
DESCRIPTION:Gratuit – Réservation sur https://vosdemarches.grandbesancon.fr/billetterie/mbaa
URL:https://www.mbaa.besancon.fr/event/visite-famille-37/
CATEGORIES:Famille,visite guidée
END:VEVENT
BEGIN:VEVENT
DTSTART;TZID=Europe/Paris:20231105T150000
DTEND;TZID=Europe/Paris:20231105T160000
DTSTAMP:20260423T051735
CREATED:20230825T141938Z
LAST-MODIFIED:20230825T142807Z
UID:8004-1699196400-1699200000@www.mbaa.besancon.fr
SUMMARY:Visite guidée de l'exposition "Les Lettres séquanes"
DESCRIPTION:Gratuit – Réservation sur https://vosdemarches.grandbesancon.fr/billetterie/mbaa
URL:https://www.mbaa.besancon.fr/event/visite-guidee-de-lexposition-les-lettres-sequanes-3/
CATEGORIES:Archéologie,expo,tout public,visite guidée
END:VEVENT
BEGIN:VEVENT
DTSTART;TZID=Europe/Paris:20231105T163000
DTEND;TZID=Europe/Paris:20231105T173000
DTSTAMP:20260423T051735
CREATED:20230825T132344Z
LAST-MODIFIED:20230825T132344Z
UID:7950-1699201800-1699205400@www.mbaa.besancon.fr
SUMMARY:Visite guidée "Les Incontournables du musée"
DESCRIPTION:Gratuit – Réservation sur https://vosdemarches.grandbesancon.fr/billetterie/mbaa
URL:https://www.mbaa.besancon.fr/event/visite-guidee-les-incontournables-du-musee-91/
CATEGORIES:tout public,visite guidée
END:VEVENT
END:VCALENDAR