BEGIN:VCALENDAR
VERSION:2.0
PRODID:-//musée des beaux-arts et d&#039;archéologie de Besançon - ECPv5.14.2.1//NONSGML v1.0//EN
CALSCALE:GREGORIAN
METHOD:PUBLISH
X-WR-CALNAME:musée des beaux-arts et d&#039;archéologie de Besançon
X-ORIGINAL-URL:https://www.mbaa.besancon.fr
X-WR-CALDESC:évènements pour musée des beaux-arts et d&#039;archéologie de Besançon
BEGIN:VTIMEZONE
TZID:Europe/Paris
BEGIN:DAYLIGHT
TZOFFSETFROM:+0100
TZOFFSETTO:+0200
TZNAME:CEST
DTSTART:20230326T010000
END:DAYLIGHT
BEGIN:STANDARD
TZOFFSETFROM:+0200
TZOFFSETTO:+0100
TZNAME:CET
DTSTART:20231029T010000
END:STANDARD
END:VTIMEZONE
BEGIN:VEVENT
DTSTART;TZID=Europe/Paris:20231025T103000
DTEND;TZID=Europe/Paris:20231025T123000
DTSTAMP:20260423T064806
CREATED:20230901T085359Z
LAST-MODIFIED:20230901T085359Z
UID:8142-1698229800-1698237000@www.mbaa.besancon.fr
SUMMARY:Les P'tits curieux 3-6 ans / Visite-atelier "À l'aise glaise !"
DESCRIPTION:Une statue\, c’est taillé dans la pierre ou dans le bois\, ou ça peut être modelé dans la terre avec ses petits doigts. Découverte de sculptures du musée et manipulation  de l’argile. \nGratuit \nSur réservation : https://vosdemarches.grandbesancon.fr/billetterie/mbaa \n 
URL:https://www.mbaa.besancon.fr/event/les-ptits-curieux-3-6-ans-visite-atelier-a-laise-glaise-3/
CATEGORIES:atelier,jeune public,visite guidée
END:VEVENT
BEGIN:VEVENT
DTSTART;TZID=Europe/Paris:20231025T143000
DTEND;TZID=Europe/Paris:20231025T163000
DTSTAMP:20260423T064806
CREATED:20230901T080350Z
LAST-MODIFIED:20230901T080350Z
UID:8080-1698244200-1698251400@www.mbaa.besancon.fr
SUMMARY:Les Grands explorateurs 7-12 ans / Visite-atelier "À la lumière de l'histoire"
DESCRIPTION:En parcourant le secteur archéologique du Musée\, à travers des éléments de décors et des objets\, de la cuisine à la chambre\, plonge dans la vie quotidienne des  gallo-romains. Puis viens créer ta propre lampe à huile en argile\, afin de décorer ta maison. \nTarif : 5€ \nSur réservation : https://vosdemarches.grandbesancon.fr/billetterie/mbaa
URL:https://www.mbaa.besancon.fr/event/les-grands-explorateurs-7-12-ans-visite-atelier-a-la-lumiere-de-lhistoire-4/
CATEGORIES:atelier,jeune public,visite guidée
END:VEVENT
END:VCALENDAR