BEGIN:VCALENDAR
VERSION:2.0
PRODID:-//musée des beaux-arts et d&#039;archéologie de Besançon - ECPv5.14.2.1//NONSGML v1.0//EN
CALSCALE:GREGORIAN
METHOD:PUBLISH
X-WR-CALNAME:musée des beaux-arts et d&#039;archéologie de Besançon
X-ORIGINAL-URL:https://www.mbaa.besancon.fr
X-WR-CALDESC:évènements pour musée des beaux-arts et d&#039;archéologie de Besançon
BEGIN:VTIMEZONE
TZID:Europe/Paris
BEGIN:DAYLIGHT
TZOFFSETFROM:+0100
TZOFFSETTO:+0200
TZNAME:CEST
DTSTART:20230326T010000
END:DAYLIGHT
BEGIN:STANDARD
TZOFFSETFROM:+0200
TZOFFSETTO:+0100
TZNAME:CET
DTSTART:20231029T010000
END:STANDARD
END:VTIMEZONE
BEGIN:VEVENT
DTSTART;TZID=Europe/Paris:20231014T100000
DTEND;TZID=Europe/Paris:20231015T180000
DTSTAMP:20260423T064110
CREATED:20230901T111017Z
LAST-MODIFIED:20230901T111017Z
UID:8182-1697277600-1697392800@www.mbaa.besancon.fr
SUMMARY:Fête de la science / Campus de la Bouloie
DESCRIPTION:Pour cette nouvelle édition\, l’Université de Franche-Comté vous accueille au campus de la Bouloie de Besançon et vous propose de nombreuses animations\, démonstrations et expériences inédites et ludiques autour de la thématique “La science en mouvement : d’hier à aujourd’hui”. \nVenez découvrir le stand des musées et repartez avec votre flipbook personnalisé ! \nJeudi 12 et vendredi 13 octobre 2023 : public scolaire \nSamedi 14 et dimanche 15 octobre 2023 : grand public \nCampus de la Bouloie – Besançon
URL:https://www.mbaa.besancon.fr/event/fete-de-la-science-campus-de-la-bouloie/
CATEGORIES:atelier,Evénement,Famille,hors les murs,manifestation,médiation,Partenariat,rencontre,scolaires,tout public
END:VEVENT
BEGIN:VEVENT
DTSTART;TZID=Europe/Paris:20231014T143000
DTEND;TZID=Europe/Paris:20231014T153000
DTSTAMP:20260423T064110
CREATED:20230901T111317Z
LAST-MODIFIED:20230901T111317Z
UID:8184-1697293800-1697297400@www.mbaa.besancon.fr
SUMMARY:Visite du cabinet d'arts graphiques
DESCRIPTION:Entrez dans le Cabinet des arts graphiques du MBAA\, lieu dédié à la conservation des dessins et des estampes\, habituellement fermé au public\, et découvrez tous ses secrets : sa création sous le directorat de Marie-Lucie Cornillot\, son architecture\, ses décors et une sélection d’œuvres exceptionnelles présentées pour l’occasion ! \nGratuit \nSur réservation : https://vosdemarches.grandbesancon.fr/billetterie/mbaa
URL:https://www.mbaa.besancon.fr/event/visite-du-cabinet-darts-graphiques/
CATEGORIES:art graphique,tout public,visite guidée
END:VEVENT
END:VCALENDAR