BEGIN:VCALENDAR
VERSION:2.0
PRODID:-//musée des beaux-arts et d&#039;archéologie de Besançon - ECPv5.14.2.1//NONSGML v1.0//EN
CALSCALE:GREGORIAN
METHOD:PUBLISH
X-WR-CALNAME:musée des beaux-arts et d&#039;archéologie de Besançon
X-ORIGINAL-URL:https://www.mbaa.besancon.fr
X-WR-CALDESC:évènements pour musée des beaux-arts et d&#039;archéologie de Besançon
BEGIN:VTIMEZONE
TZID:Europe/Paris
BEGIN:DAYLIGHT
TZOFFSETFROM:+0100
TZOFFSETTO:+0200
TZNAME:CEST
DTSTART:20230326T010000
END:DAYLIGHT
BEGIN:STANDARD
TZOFFSETFROM:+0200
TZOFFSETTO:+0100
TZNAME:CET
DTSTART:20231029T010000
END:STANDARD
END:VTIMEZONE
BEGIN:VEVENT
DTSTART;TZID=Europe/Paris:20231011T141500
DTEND;TZID=Europe/Paris:20231011T161500
DTSTAMP:20260423T064804
CREATED:20230901T074907Z
LAST-MODIFIED:20230901T074907Z
UID:8062-1697033700-1697040900@www.mbaa.besancon.fr
SUMMARY:Les Grands explorateurs 7-12 ans / Visite-atelier "C'est dans les vieux pots qu'on fait les meilleures soupes"
DESCRIPTION:Du chasseur cueilleur à l’agriculteur qui modèle ses pots\, il n’y a (presque) qu’un pas\, juste quelques milliers d ‘années! Visite paléo-néolithique et modelage de céramique au colombin\, comme les premiers potiers préhistoriques. \nTarif : 5€ \nSur réservation : https://vosdemarches.grandbesancon.fr/billetterie/mbaa
URL:https://www.mbaa.besancon.fr/event/les-grands-explorateurs-7-12-ans-visite-atelier-cest-dans-les-vieux-pots-quon-fait-les-meilleures-soupes-3/
CATEGORIES:atelier,jeune public,visite guidée
END:VEVENT
END:VCALENDAR