BEGIN:VCALENDAR
VERSION:2.0
PRODID:-//musée des beaux-arts et d&#039;archéologie de Besançon - ECPv5.14.2.1//NONSGML v1.0//EN
CALSCALE:GREGORIAN
METHOD:PUBLISH
X-WR-CALNAME:musée des beaux-arts et d&#039;archéologie de Besançon
X-ORIGINAL-URL:https://www.mbaa.besancon.fr
X-WR-CALDESC:évènements pour musée des beaux-arts et d&#039;archéologie de Besançon
BEGIN:VTIMEZONE
TZID:Europe/Paris
BEGIN:DAYLIGHT
TZOFFSETFROM:+0100
TZOFFSETTO:+0200
TZNAME:CEST
DTSTART:20230326T010000
END:DAYLIGHT
BEGIN:STANDARD
TZOFFSETFROM:+0200
TZOFFSETTO:+0100
TZNAME:CET
DTSTART:20231029T010000
END:STANDARD
END:VTIMEZONE
BEGIN:VEVENT
DTSTART;TZID=Europe/Paris:20230920T141500
DTEND;TZID=Europe/Paris:20230920T161500
DTSTAMP:20260423T081207
CREATED:20230614T072827Z
LAST-MODIFIED:20230614T072827Z
UID:7808-1695219300-1695226500@www.mbaa.besancon.fr
SUMMARY:Les Grands explorateurs 7-12 ans\, visite-atelier " Mythes et légendes "
DESCRIPTION:De Méduse à la Vouivre\, d’Hercule à Thésée\, découvre les mythes antiques\, les légendes\, les monstres et les héros qui peuplent  les œuvres du Musée. Puis crée\, en bas- relief\,  ta propre tête de méduse en argile. \nTarif : 5€ \nSur réservation : https://vosdemarches.grandbesancon.fr/billetterie/mbaa \n 
URL:https://www.mbaa.besancon.fr/event/les-grands-explorateurs-7-12-ans-visite-atelier-mythes-et-legendes-3/
CATEGORIES:atelier,jeune public,visite guidée
END:VEVENT
END:VCALENDAR