BEGIN:VCALENDAR
VERSION:2.0
PRODID:-//musée des beaux-arts et d&#039;archéologie de Besançon - ECPv5.14.2.1//NONSGML v1.0//EN
CALSCALE:GREGORIAN
METHOD:PUBLISH
X-WR-CALNAME:musée des beaux-arts et d&#039;archéologie de Besançon
X-ORIGINAL-URL:https://www.mbaa.besancon.fr
X-WR-CALDESC:évènements pour musée des beaux-arts et d&#039;archéologie de Besançon
BEGIN:VTIMEZONE
TZID:Europe/Paris
BEGIN:DAYLIGHT
TZOFFSETFROM:+0100
TZOFFSETTO:+0200
TZNAME:CEST
DTSTART:20230326T010000
END:DAYLIGHT
BEGIN:STANDARD
TZOFFSETFROM:+0200
TZOFFSETTO:+0100
TZNAME:CET
DTSTART:20231029T010000
END:STANDARD
END:VTIMEZONE
BEGIN:VEVENT
DTSTART;TZID=Europe/Paris:20230703T100000
DTEND;TZID=Europe/Paris:20230918T180000
DTSTAMP:20260423T081208
CREATED:20230614T070128Z
LAST-MODIFIED:20230823T071628Z
UID:7766-1688378400-1695060000@www.mbaa.besancon.fr
SUMMARY:Restitution du projet "Bons baisers" / En partenariat avec le CAMNA
DESCRIPTION:Du 5 juillet au 18 septembre \nRestitution d’un cycle d’ateliers d’arts plastiques imaginés à partir d’œuvres de la collection du musée des beaux-arts et d’archéologie (notamment la collection d’arts graphiques) et menés de février à mai 2023\, avec un groupe de jeunes mineurs non accompagnés hébergés par la Boutique Jeanne Antide (CAMNA-Centre d’Accueil de Mineurs Non Accompagnés) \nArtiste intervenante : Mélissa Franchini \nEspace médiation
URL:https://www.mbaa.besancon.fr/event/restitution-du-projet-papier-en-partenariat-avec-le-cada/
CATEGORIES:médiation,Partenariat,Restitution
END:VEVENT
BEGIN:VEVENT
DTSTART;TZID=Europe/Paris:20230910T103000
DTEND;TZID=Europe/Paris:20230910T110000
DTSTAMP:20260423T081208
CREATED:20230614T081124Z
LAST-MODIFIED:20230614T081124Z
UID:7859-1694341800-1694343600@www.mbaa.besancon.fr
SUMMARY:Éveil tout-petits 18 mois-3ans
DESCRIPTION:Ici on scrute les animaux dans un ou deux tableaux\, avec des bruits\, des comptines\, des histoires\, des marionnettes… \nAmenez votre propre doudou (chien\, vache\, mouton\, chèvre\, cochon ou cheval de préférence) ! \nDurée 30 minutes \nGratuit \nSur réservation : https://vosdemarches.grandbesancon.fr/billetterie/mbaa \n 
URL:https://www.mbaa.besancon.fr/event/eveil-tout-petits-18-mois-3ans-3/
CATEGORIES:éveil,jeune public,tout-petits,visite guidée
END:VEVENT
BEGIN:VEVENT
DTSTART;TZID=Europe/Paris:20230910T150000
DTEND;TZID=Europe/Paris:20230910T160000
DTSTAMP:20260423T081208
CREATED:20230609T125612Z
LAST-MODIFIED:20230609T125612Z
UID:7631-1694358000-1694361600@www.mbaa.besancon.fr
SUMMARY:Visite guidée de l'exposition "La Grande Mademoiselle"
DESCRIPTION:Sur réservation : https://vosdemarches.grandbesancon.fr/billetterie/mbaa
URL:https://www.mbaa.besancon.fr/event/visite-guidee-de-lexposition-la-grande-mademoiselle-21/
CATEGORIES:expo,public adulte,visite guidée
END:VEVENT
BEGIN:VEVENT
DTSTART;TZID=Europe/Paris:20230910T163000
DTEND;TZID=Europe/Paris:20230910T173000
DTSTAMP:20260423T081208
CREATED:20230609T142719Z
LAST-MODIFIED:20230609T142719Z
UID:7749-1694363400-1694367000@www.mbaa.besancon.fr
SUMMARY:Visite guidée « Les Incontournables du musée »
DESCRIPTION:Sur réservation : https://vosdemarches.grandbesancon.fr/billetterie/mbaa
URL:https://www.mbaa.besancon.fr/event/visite-guidee-les-incontournables-du-musee-83/
CATEGORIES:tout public,visite guidée
END:VEVENT
END:VCALENDAR