BEGIN:VCALENDAR
VERSION:2.0
PRODID:-//musée des beaux-arts et d&#039;archéologie de Besançon - ECPv5.14.2.1//NONSGML v1.0//EN
CALSCALE:GREGORIAN
METHOD:PUBLISH
X-WR-CALNAME:musée des beaux-arts et d&#039;archéologie de Besançon
X-ORIGINAL-URL:https://www.mbaa.besancon.fr
X-WR-CALDESC:évènements pour musée des beaux-arts et d&#039;archéologie de Besançon
BEGIN:VTIMEZONE
TZID:Europe/Paris
BEGIN:DAYLIGHT
TZOFFSETFROM:+0100
TZOFFSETTO:+0200
TZNAME:CEST
DTSTART:20230326T010000
END:DAYLIGHT
BEGIN:STANDARD
TZOFFSETFROM:+0200
TZOFFSETTO:+0100
TZNAME:CET
DTSTART:20231029T010000
END:STANDARD
END:VTIMEZONE
BEGIN:VEVENT
DTSTART;TZID=Europe/Paris:20230703T100000
DTEND;TZID=Europe/Paris:20230918T180000
DTSTAMP:20260423T094547
CREATED:20230614T070128Z
LAST-MODIFIED:20230823T071628Z
UID:7766-1688378400-1695060000@www.mbaa.besancon.fr
SUMMARY:Restitution du projet "Bons baisers" / En partenariat avec le CAMNA
DESCRIPTION:Du 5 juillet au 18 septembre \nRestitution d’un cycle d’ateliers d’arts plastiques imaginés à partir d’œuvres de la collection du musée des beaux-arts et d’archéologie (notamment la collection d’arts graphiques) et menés de février à mai 2023\, avec un groupe de jeunes mineurs non accompagnés hébergés par la Boutique Jeanne Antide (CAMNA-Centre d’Accueil de Mineurs Non Accompagnés) \nArtiste intervenante : Mélissa Franchini \nEspace médiation
URL:https://www.mbaa.besancon.fr/event/restitution-du-projet-papier-en-partenariat-avec-le-cada/
CATEGORIES:médiation,Partenariat,Restitution
END:VEVENT
BEGIN:VEVENT
DTSTART;TZID=Europe/Paris:20230826T143000
DTEND;TZID=Europe/Paris:20230826T163000
DTSTAMP:20260423T094547
CREATED:20230614T072224Z
LAST-MODIFIED:20230614T072224Z
UID:7796-1693060200-1693067400@www.mbaa.besancon.fr
SUMMARY:Les Grands explorateurs 7-12 ans\, visite-atelier " C’est dans les vieux pots qu’on fait les meilleures soupes ! "
DESCRIPTION:Du chasseur cueilleur à l’agriculteur qui modèle ses pots\, il n’y a (presque) qu’un pas\, juste quelques milliers d ‘années! Visite paléo-néolithique et modelage de céramique au colombin\, comme les premiers potiers préhistoriques. \nTarif : 5€ \nSur réservation : https://vosdemarches.grandbesancon.fr/billetterie/mbaa \n 
URL:https://www.mbaa.besancon.fr/event/les-grands-explorateurs-7-12-ans-visite-atelier-cest-dans-les-vieux-pots-quon-fait-les-meilleures-soupes-2/
CATEGORIES:atelier,jeune public,visite guidée
END:VEVENT
BEGIN:VEVENT
DTSTART;TZID=Europe/Paris:20230826T150000
DTEND;TZID=Europe/Paris:20230826T160000
DTSTAMP:20260423T094547
CREATED:20230609T125020Z
LAST-MODIFIED:20230609T125020Z
UID:7623-1693062000-1693065600@www.mbaa.besancon.fr
SUMMARY:Visite guidée de l'exposition "La Grande Mademoiselle"
DESCRIPTION:Sur réservation : https://vosdemarches.grandbesancon.fr/billetterie/mbaa
URL:https://www.mbaa.besancon.fr/event/visite-guidee-de-lexposition-la-grande-mademoiselle-17/
CATEGORIES:expo,public adulte,visite guidée
END:VEVENT
BEGIN:VEVENT
DTSTART;TZID=Europe/Paris:20230826T163000
DTEND;TZID=Europe/Paris:20230826T173000
DTSTAMP:20260423T094547
CREATED:20230609T141912Z
LAST-MODIFIED:20230609T141912Z
UID:7733-1693067400-1693071000@www.mbaa.besancon.fr
SUMMARY:Visite guidée « Les Incontournables du musée »
DESCRIPTION:Sur réservation : https://vosdemarches.grandbesancon.fr/billetterie/mbaa
URL:https://www.mbaa.besancon.fr/event/visite-guidee-les-incontournables-du-musee-75/
CATEGORIES:tout public,visite guidée
END:VEVENT
END:VCALENDAR