BEGIN:VCALENDAR
VERSION:2.0
PRODID:-//musée des beaux-arts et d&#039;archéologie de Besançon - ECPv5.14.2.1//NONSGML v1.0//EN
CALSCALE:GREGORIAN
METHOD:PUBLISH
X-WR-CALNAME:musée des beaux-arts et d&#039;archéologie de Besançon
X-ORIGINAL-URL:https://www.mbaa.besancon.fr
X-WR-CALDESC:évènements pour musée des beaux-arts et d&#039;archéologie de Besançon
BEGIN:VTIMEZONE
TZID:Europe/Paris
BEGIN:DAYLIGHT
TZOFFSETFROM:+0100
TZOFFSETTO:+0200
TZNAME:CEST
DTSTART:20230326T010000
END:DAYLIGHT
BEGIN:STANDARD
TZOFFSETFROM:+0200
TZOFFSETTO:+0100
TZNAME:CET
DTSTART:20231029T010000
END:STANDARD
END:VTIMEZONE
BEGIN:VEVENT
DTSTART;TZID=Europe/Paris:20230703T100000
DTEND;TZID=Europe/Paris:20230918T180000
DTSTAMP:20260423T094550
CREATED:20230614T070128Z
LAST-MODIFIED:20230823T071628Z
UID:7766-1688378400-1695060000@www.mbaa.besancon.fr
SUMMARY:Restitution du projet "Bons baisers" / En partenariat avec le CAMNA
DESCRIPTION:Du 5 juillet au 18 septembre \nRestitution d’un cycle d’ateliers d’arts plastiques imaginés à partir d’œuvres de la collection du musée des beaux-arts et d’archéologie (notamment la collection d’arts graphiques) et menés de février à mai 2023\, avec un groupe de jeunes mineurs non accompagnés hébergés par la Boutique Jeanne Antide (CAMNA-Centre d’Accueil de Mineurs Non Accompagnés) \nArtiste intervenante : Mélissa Franchini \nEspace médiation
URL:https://www.mbaa.besancon.fr/event/restitution-du-projet-papier-en-partenariat-avec-le-cada/
CATEGORIES:médiation,Partenariat,Restitution
END:VEVENT
BEGIN:VEVENT
DTSTART;TZID=Europe/Paris:20230825T103000
DTEND;TZID=Europe/Paris:20230825T120000
DTSTAMP:20260423T094550
CREATED:20230614T074449Z
LAST-MODIFIED:20230614T074449Z
UID:7828-1692959400-1692964800@www.mbaa.besancon.fr
SUMMARY:Les P’tits curieux 3-6 ans\, visite-atelier " Comme un poisson dans l’eau "
DESCRIPTION:Parcours les collections du musée pour découvrir  les  légendes\, les animaux et les œuvres autour du  thème de  l’eau\, puis complète ta découverte par un atelier créatif. \nContinue l’aventure en allant dans une des piscines municipales de Besançon avec ton entrée gratuite \nGratuit \nSur réservation : https://vosdemarches.grandbesancon.fr/billetterie/mbaa \n 
URL:https://www.mbaa.besancon.fr/event/les-ptits-curieux-3-6-ans-visite-atelier-comme-un-poisson-dans-leau-4/
CATEGORIES:atelier,jeune public,Partenariat,visite guidée
END:VEVENT
BEGIN:VEVENT
DTSTART;TZID=Europe/Paris:20230825T110000
DTEND;TZID=Europe/Paris:20230825T120000
DTSTAMP:20260423T094550
CREATED:20230609T141742Z
LAST-MODIFIED:20230609T141742Z
UID:7729-1692961200-1692964800@www.mbaa.besancon.fr
SUMMARY:Visite guidée « Les Incontournables du musée »
DESCRIPTION:Sur réservation : https://vosdemarches.grandbesancon.fr/billetterie/mbaa
URL:https://www.mbaa.besancon.fr/event/visite-guidee-les-incontournables-du-musee-73/
CATEGORIES:tout public,visite guidée
END:VEVENT
BEGIN:VEVENT
DTSTART;TZID=Europe/Paris:20230825T163000
DTEND;TZID=Europe/Paris:20230825T173000
DTSTAMP:20260423T094550
CREATED:20230609T141827Z
LAST-MODIFIED:20230609T141827Z
UID:7731-1692981000-1692984600@www.mbaa.besancon.fr
SUMMARY:Visite guidée « Les Incontournables du musée »
DESCRIPTION:Sur réservation : https://vosdemarches.grandbesancon.fr/billetterie/mbaa
URL:https://www.mbaa.besancon.fr/event/visite-guidee-les-incontournables-du-musee-74/
CATEGORIES:tout public,visite guidée
END:VEVENT
END:VCALENDAR