BEGIN:VCALENDAR
VERSION:2.0
PRODID:-//musée des beaux-arts et d&#039;archéologie de Besançon - ECPv5.14.2.1//NONSGML v1.0//EN
CALSCALE:GREGORIAN
METHOD:PUBLISH
X-WR-CALNAME:musée des beaux-arts et d&#039;archéologie de Besançon
X-ORIGINAL-URL:https://www.mbaa.besancon.fr
X-WR-CALDESC:évènements pour musée des beaux-arts et d&#039;archéologie de Besançon
BEGIN:VTIMEZONE
TZID:Europe/Paris
BEGIN:DAYLIGHT
TZOFFSETFROM:+0100
TZOFFSETTO:+0200
TZNAME:CEST
DTSTART:20230326T010000
END:DAYLIGHT
BEGIN:STANDARD
TZOFFSETFROM:+0200
TZOFFSETTO:+0100
TZNAME:CET
DTSTART:20231029T010000
END:STANDARD
END:VTIMEZONE
BEGIN:VEVENT
DTSTART;TZID=Europe/Paris:20230703T100000
DTEND;TZID=Europe/Paris:20230918T180000
DTSTAMP:20260423T112110
CREATED:20230614T070128Z
LAST-MODIFIED:20230823T071628Z
UID:7766-1688378400-1695060000@www.mbaa.besancon.fr
SUMMARY:Restitution du projet "Bons baisers" / En partenariat avec le CAMNA
DESCRIPTION:Du 5 juillet au 18 septembre \nRestitution d’un cycle d’ateliers d’arts plastiques imaginés à partir d’œuvres de la collection du musée des beaux-arts et d’archéologie (notamment la collection d’arts graphiques) et menés de février à mai 2023\, avec un groupe de jeunes mineurs non accompagnés hébergés par la Boutique Jeanne Antide (CAMNA-Centre d’Accueil de Mineurs Non Accompagnés) \nArtiste intervenante : Mélissa Franchini \nEspace médiation
URL:https://www.mbaa.besancon.fr/event/restitution-du-projet-papier-en-partenariat-avec-le-cada/
CATEGORIES:médiation,Partenariat,Restitution
END:VEVENT
BEGIN:VEVENT
DTSTART;TZID=Europe/Paris:20230715T143000
DTEND;TZID=Europe/Paris:20230715T163000
DTSTAMP:20260423T112110
CREATED:20230614T071450Z
LAST-MODIFIED:20230614T071450Z
UID:7784-1689431400-1689438600@www.mbaa.besancon.fr
SUMMARY:Les Grands explorateurs 7-12 ans\, visite-atelier "Mosaïques"
DESCRIPTION:« En 50 avant Jésus Christ\, toute la Gaule est occupée. Toute ? » Oui ! Même Besançon\, qui s’appelle alors Vesontio. Les Gallo-romains y construisent de très riches maisons. Découverte des mosaïques conservées au musée\, puis place à la pratique ! \nTarif : 5€ \nSur réservation : https://vosdemarches.grandbesancon.fr/billetterie/mbaa
URL:https://www.mbaa.besancon.fr/event/les-grands-explorateurs-7-12-ans-visite-atelier-mosaiques/
CATEGORIES:Archéologie,atelier,jeune public,visite guidée
END:VEVENT
BEGIN:VEVENT
DTSTART;TZID=Europe/Paris:20230715T150000
DTEND;TZID=Europe/Paris:20230715T160000
DTSTAMP:20260423T112110
CREATED:20230609T122945Z
LAST-MODIFIED:20230609T122945Z
UID:7599-1689433200-1689436800@www.mbaa.besancon.fr
SUMMARY:Visite guidée de l'exposition "La Grande mademoiselle"
DESCRIPTION:Sur réservation : https://vosdemarches.grandbesancon.fr/billetterie/mbaa
URL:https://www.mbaa.besancon.fr/event/visite-guidee-de-lexposition-la-grande-mademoiselle-5/
CATEGORIES:expo,public adulte,visite guidée
END:VEVENT
BEGIN:VEVENT
DTSTART;TZID=Europe/Paris:20230715T163000
DTEND;TZID=Europe/Paris:20230715T173000
DTSTAMP:20260423T112110
CREATED:20230609T132447Z
LAST-MODIFIED:20230609T132447Z
UID:7661-1689438600-1689442200@www.mbaa.besancon.fr
SUMMARY:Visite guidée « Les Incontournables du musée »
DESCRIPTION:Sur réservation : https://vosdemarches.grandbesancon.fr/billetterie/mbaa
URL:https://www.mbaa.besancon.fr/event/visite-guidee-les-incontournables-du-musee-39/
CATEGORIES:tout public,visite guidée
END:VEVENT
END:VCALENDAR