BEGIN:VCALENDAR
VERSION:2.0
PRODID:-//musée des beaux-arts et d&#039;archéologie de Besançon - ECPv5.14.2.1//NONSGML v1.0//EN
CALSCALE:GREGORIAN
METHOD:PUBLISH
X-WR-CALNAME:musée des beaux-arts et d&#039;archéologie de Besançon
X-ORIGINAL-URL:https://www.mbaa.besancon.fr
X-WR-CALDESC:évènements pour musée des beaux-arts et d&#039;archéologie de Besançon
BEGIN:VTIMEZONE
TZID:Europe/Paris
BEGIN:DAYLIGHT
TZOFFSETFROM:+0100
TZOFFSETTO:+0200
TZNAME:CEST
DTSTART:20230326T010000
END:DAYLIGHT
BEGIN:STANDARD
TZOFFSETFROM:+0200
TZOFFSETTO:+0100
TZNAME:CET
DTSTART:20231029T010000
END:STANDARD
END:VTIMEZONE
BEGIN:VEVENT
DTSTART;TZID=Europe/Paris:20230625T103000
DTEND;TZID=Europe/Paris:20230625T123000
DTSTAMP:20260423T124950
CREATED:20230127T105537Z
LAST-MODIFIED:20230615T142656Z
UID:7317-1687689000-1687696200@www.mbaa.besancon.fr
SUMMARY:LES GRANDS EXPLORATEURS 7 - 12 ANS / -	Mosaïques - Visite-atelier mosaïques
DESCRIPTION:« En 50 avant Jésus Christ\, toute la Gaule occupée. Toute ? » Oui ! Même Besançon\, qui s’appelle alors Vesontio. Les Gallo-romains y construisent de très riches maisons. Découverte des mosaïques conservées au musée\, puis place à la pratique ! \nDimanche 25  juin  à 10h30 \n— \nDurée : 2h \n5€ par enfant \nInscription sur la plateforme de réservations des musées https://vosdemarches.grandbesancon.fr/billetterie/mbaa
URL:https://www.mbaa.besancon.fr/event/les-grands-explorateurs-7-12-ans-mosaiques-visite-atelier-mosaiques-3/
CATEGORIES:atelier,jeune public,médiation,visite guidée
END:VEVENT
BEGIN:VEVENT
DTSTART;TZID=Europe/Paris:20230625T150000
DTEND;TZID=Europe/Paris:20230625T160000
DTSTAMP:20260423T124950
CREATED:20230124T141721Z
LAST-MODIFIED:20230615T142618Z
UID:7109-1687705200-1687708800@www.mbaa.besancon.fr
SUMMARY:Visite de l'exposition "La Grande Mademoiselle"
DESCRIPTION:Inscription sur la plateforme de réservations des musées https://vosdemarches.grandbesancon.fr/billetterie/mbaa \nDans la limite des places disponibles.
URL:https://www.mbaa.besancon.fr/event/visite-de-lexposition-la-grande-mademoiselle-3/
CATEGORIES:expo,tout public,visite guidée
END:VEVENT
BEGIN:VEVENT
DTSTART;TZID=Europe/Paris:20230625T163000
DTEND;TZID=Europe/Paris:20230625T173000
DTSTAMP:20260423T124950
CREATED:20230124T145012Z
LAST-MODIFIED:20230615T142537Z
UID:7173-1687710600-1687714200@www.mbaa.besancon.fr
SUMMARY:Visite "Modeler le réel - L'art de la sculpture"
DESCRIPTION:Inscription sur la plateforme de réservations des musées https://vosdemarches.grandbesancon.fr/billetterie/mbaa \n 
URL:https://www.mbaa.besancon.fr/event/visite-modeler-le-reel-lart-de-la-sculpture-3/
CATEGORIES:tout public,visite guidée
END:VEVENT
END:VCALENDAR