BEGIN:VCALENDAR
VERSION:2.0
PRODID:-//musée des beaux-arts et d&#039;archéologie de Besançon - ECPv5.14.2.1//NONSGML v1.0//EN
CALSCALE:GREGORIAN
METHOD:PUBLISH
X-WR-CALNAME:musée des beaux-arts et d&#039;archéologie de Besançon
X-ORIGINAL-URL:https://www.mbaa.besancon.fr
X-WR-CALDESC:évènements pour musée des beaux-arts et d&#039;archéologie de Besançon
BEGIN:VTIMEZONE
TZID:Europe/Paris
BEGIN:DAYLIGHT
TZOFFSETFROM:+0100
TZOFFSETTO:+0200
TZNAME:CEST
DTSTART:20230326T010000
END:DAYLIGHT
BEGIN:STANDARD
TZOFFSETFROM:+0200
TZOFFSETTO:+0100
TZNAME:CET
DTSTART:20231029T010000
END:STANDARD
END:VTIMEZONE
BEGIN:VEVENT
DTSTART;TZID=Europe/Paris:20230624T170000
DTEND;TZID=Europe/Paris:20230624T180000
DTSTAMP:20260423T124952
CREATED:20230125T101345Z
LAST-MODIFIED:20230601T091510Z
UID:7207-1687626000-1687629600@www.mbaa.besancon.fr
SUMMARY:Annulée : Lecture musicale "Bonnard au musée"
DESCRIPTION:Samedi 24 juin à 17h \nLecture musicale François Migeot- René Lagoz Diaz en lien avec les œuvres de Pierre Bonnard dans le cadre de l’exposition « Marie Lucie Cornillot\, une vie de musées »
URL:https://www.mbaa.besancon.fr/event/lecture-musicale-bonnard-au-musee/
CATEGORIES:expo,Lecture,musique
END:VEVENT
END:VCALENDAR