BEGIN:VCALENDAR
VERSION:2.0
PRODID:-//musée des beaux-arts et d&#039;archéologie de Besançon - ECPv5.14.2.1//NONSGML v1.0//EN
CALSCALE:GREGORIAN
METHOD:PUBLISH
X-WR-CALNAME:musée des beaux-arts et d&#039;archéologie de Besançon
X-ORIGINAL-URL:https://www.mbaa.besancon.fr
X-WR-CALDESC:évènements pour musée des beaux-arts et d&#039;archéologie de Besançon
BEGIN:VTIMEZONE
TZID:Europe/Paris
BEGIN:DAYLIGHT
TZOFFSETFROM:+0100
TZOFFSETTO:+0200
TZNAME:CEST
DTSTART:20230326T010000
END:DAYLIGHT
BEGIN:STANDARD
TZOFFSETFROM:+0200
TZOFFSETTO:+0100
TZNAME:CET
DTSTART:20231029T010000
END:STANDARD
END:VTIMEZONE
BEGIN:VEVENT
DTSTART;TZID=Europe/Paris:20230616T100000
DTEND;TZID=Europe/Paris:20230618T180000
DTSTAMP:20260423T124849
CREATED:20230127T092449Z
LAST-MODIFIED:20230127T092449Z
UID:7236-1686909600-1687111200@www.mbaa.besancon.fr
SUMMARY:Les Journées Européennes de l’Archéologie
DESCRIPTION:Du vendredi 16 au dimanche 18 juin 2023 de 10h à 18h \nLes Journées européennes de l’archéologie sont pilotées par l’Inrap sous l’égide du ministère de la Culture. Elles se dérouleront les 16\, 17 et 18 juin 2023. Passionnés d’histoire ou simples curieux\, en famille ou avec sa classe\, venez découvrir les coulisses du patrimoine et de la recherche archéologique. \nProgramme détaillé à venir sur le site du musée et sur https://journees-archeologie.fr/ \nTout public / Entrée libre \n 
URL:https://www.mbaa.besancon.fr/event/les-journees-europeennes-de-larcheologie/
CATEGORIES:Archéologie,Evénement,manifestation,tout public
END:VEVENT
BEGIN:VEVENT
DTSTART;TZID=Europe/Paris:20230618T103000
DTEND;TZID=Europe/Paris:20230618T123000
DTSTAMP:20260423T124849
CREATED:20230127T104456Z
LAST-MODIFIED:20230615T142842Z
UID:7301-1687084200-1687091400@www.mbaa.besancon.fr
SUMMARY:LES P’TITS CURIEUX 3 - 6 ANS / -	Mon petit herbier ! Le végétal dans les arts. Visite atelier
DESCRIPTION:Parcourez le musée pour découvrir les plantes et les fleurs qui se cachent dans les tableaux du musée grâce à une visite ludique et sensorielle. Pour compléter l’expérience un petit herbier sera créé pour comparer les plantes vues dans les tableaux avec celles de la nature. \nDimanche 18 juin à 10h30 \n— \nDurée : 1h30 à 2h environ \nGratuit \nInscription sur la plateforme de réservations des musées https://vosdemarches.grandbesancon.fr/billetterie/mbaa
URL:https://www.mbaa.besancon.fr/event/les-ptits-curieux-3-6-ans-mon-petit-herbier-le-vegetal-dans-les-arts-visite-atelier-6/
CATEGORIES:atelier,jeune public,médiation,visite guidée
END:VEVENT
BEGIN:VEVENT
DTSTART;TZID=Europe/Paris:20230618T150000
DTEND;TZID=Europe/Paris:20230618T160000
DTSTAMP:20260423T124849
CREATED:20230124T141648Z
LAST-MODIFIED:20230615T142810Z
UID:7107-1687100400-1687104000@www.mbaa.besancon.fr
SUMMARY:Visite de l'exposition "La Grande Mademoiselle"
DESCRIPTION:Inscription sur la plateforme de réservations des musées https://vosdemarches.grandbesancon.fr/billetterie/mbaa \nDans la limite des places disponibles.
URL:https://www.mbaa.besancon.fr/event/visite-de-lexposition-la-grande-mademoiselle-2/
CATEGORIES:expo,tout public,visite guidée
END:VEVENT
BEGIN:VEVENT
DTSTART;TZID=Europe/Paris:20230618T163000
DTEND;TZID=Europe/Paris:20230618T173000
DTSTAMP:20260423T124849
CREATED:20230124T144931Z
LAST-MODIFIED:20230615T142733Z
UID:7171-1687105800-1687109400@www.mbaa.besancon.fr
SUMMARY:Visite "De l'or à l'orange - Usages et symboliques de ces deux couleurs au cours du temps"
DESCRIPTION:Inscription sur la plateforme de réservations des musées https://vosdemarches.grandbesancon.fr/billetterie/mbaa \nDans la limite des places disponibles.
URL:https://www.mbaa.besancon.fr/event/visite-de-lor-a-lorange-usages-et-symboliques-de-ces-deux-couleurs-au-cours-du-temps/
CATEGORIES:tout public,visite guidée
END:VEVENT
END:VCALENDAR