BEGIN:VCALENDAR
VERSION:2.0
PRODID:-//musée des beaux-arts et d&#039;archéologie de Besançon - ECPv5.14.2.1//NONSGML v1.0//EN
CALSCALE:GREGORIAN
METHOD:PUBLISH
X-WR-CALNAME:musée des beaux-arts et d&#039;archéologie de Besançon
X-ORIGINAL-URL:https://www.mbaa.besancon.fr
X-WR-CALDESC:évènements pour musée des beaux-arts et d&#039;archéologie de Besançon
BEGIN:VTIMEZONE
TZID:Europe/Paris
BEGIN:DAYLIGHT
TZOFFSETFROM:+0100
TZOFFSETTO:+0200
TZNAME:CEST
DTSTART:20230326T010000
END:DAYLIGHT
BEGIN:STANDARD
TZOFFSETFROM:+0200
TZOFFSETTO:+0100
TZNAME:CET
DTSTART:20231029T010000
END:STANDARD
END:VTIMEZONE
BEGIN:VEVENT
DTSTART;TZID=Europe/Paris:20230614T141500
DTEND;TZID=Europe/Paris:20230614T161500
DTSTAMP:20260423T125016
CREATED:20230127T103006Z
LAST-MODIFIED:20230127T103006Z
UID:7279-1686752100-1686759300@www.mbaa.besancon.fr
SUMMARY:LES P’TITS CURIEUX 3 - 6 ANS / -	Les p’tits cailloux - Visite-atelier mosaïque
DESCRIPTION:« En 50 avant Jésus Christ\, toute la Gaule occupée. Toute ? » Oui ! Même Besançon\, qui s’appelle alors Vesontio. Les Gallo-romains y construisent de très riches maisons. Découverte des mosaïques conservées au musée\, puis place à la pratique ! \nMercredi 14 juin à 14h15 \n— \nDurée : 1h30 à 2h environ \nGratuit \nSur inscription au 03 81 87 80 49 ou par mail à reservationsmusees@besancon.fr
URL:https://www.mbaa.besancon.fr/event/les-ptits-curieux-3-6-ans-les-ptits-cailloux-visite-atelier-mosaique-6/
CATEGORIES:atelier,jeune public,médiation,visite guidée
END:VEVENT
END:VCALENDAR