BEGIN:VCALENDAR
VERSION:2.0
PRODID:-//musée des beaux-arts et d&#039;archéologie de Besançon - ECPv5.14.2.1//NONSGML v1.0//EN
CALSCALE:GREGORIAN
METHOD:PUBLISH
X-WR-CALNAME:musée des beaux-arts et d&#039;archéologie de Besançon
X-ORIGINAL-URL:https://www.mbaa.besancon.fr
X-WR-CALDESC:évènements pour musée des beaux-arts et d&#039;archéologie de Besançon
BEGIN:VTIMEZONE
TZID:Europe/Paris
BEGIN:DAYLIGHT
TZOFFSETFROM:+0100
TZOFFSETTO:+0200
TZNAME:CEST
DTSTART:20230326T010000
END:DAYLIGHT
BEGIN:STANDARD
TZOFFSETFROM:+0200
TZOFFSETTO:+0100
TZNAME:CET
DTSTART:20231029T010000
END:STANDARD
END:VTIMEZONE
BEGIN:VEVENT
DTSTART;TZID=Europe/Paris:20230531T141500
DTEND;TZID=Europe/Paris:20230531T161500
DTSTAMP:20260423T125025
CREATED:20230127T102215Z
LAST-MODIFIED:20230127T102215Z
UID:7269-1685542500-1685549700@www.mbaa.besancon.fr
SUMMARY:LES P’TITS CURIEUX 3 - 6 ANS / -	À l'aise\, glaise! - Manipulation & modelage
DESCRIPTION:Une statue\, c’est taillé dans la pierre ou dans le bois\, ou ça peut être modelé dans la terre avec ses petits doigts. Découverte de sculptures de musées et manipulation de moulages et d’argile. \nMercredi 31 mai à 14h15 \n— \nDurée : 1h30 à 2h environ \nGratuit \nSur inscription au 03 81 87 80 49 ou par mail à reservationsmusees@besancon.fr
URL:https://www.mbaa.besancon.fr/event/les-ptits-curieux-3-6-ans-a-laise-glaise-manipulation-modelage-6/
CATEGORIES:atelier,jeune public,médiation,visite guidée
END:VEVENT
END:VCALENDAR