BEGIN:VCALENDAR
VERSION:2.0
PRODID:-//musée des beaux-arts et d&#039;archéologie de Besançon - ECPv5.14.2.1//NONSGML v1.0//EN
CALSCALE:GREGORIAN
METHOD:PUBLISH
X-WR-CALNAME:musée des beaux-arts et d&#039;archéologie de Besançon
X-ORIGINAL-URL:https://www.mbaa.besancon.fr
X-WR-CALDESC:évènements pour musée des beaux-arts et d&#039;archéologie de Besançon
BEGIN:VTIMEZONE
TZID:Europe/Paris
BEGIN:DAYLIGHT
TZOFFSETFROM:+0100
TZOFFSETTO:+0200
TZNAME:CEST
DTSTART:20230326T010000
END:DAYLIGHT
BEGIN:STANDARD
TZOFFSETFROM:+0200
TZOFFSETTO:+0100
TZNAME:CET
DTSTART:20231029T010000
END:STANDARD
END:VTIMEZONE
BEGIN:VEVENT
DTSTART;TZID=Europe/Paris:20230528T103000
DTEND;TZID=Europe/Paris:20230528T123000
DTSTAMP:20260423T141928
CREATED:20230127T110531Z
LAST-MODIFIED:20230127T110531Z
UID:7335-1685269800-1685277000@www.mbaa.besancon.fr
SUMMARY:LES GRANDS EXPLORATEURS 7 - 12 ANS / -	Dessine- moi un paysage!
DESCRIPTION:Peindre la nature- visite atelier paysage à la craie sèche \nEntre monts et forêts\, nous sauteront de feuille en feuille\, de rocher\, pour découvrir les paysages de Franche-Comté et d’ailleurs\, que recèle le musée. En atelier\, nous expérimentons la mise en place des notions des plans et des perspectives\, défrichées en visite. \nDimanche 28 mai à 10h30 \n— \nDurée : 2h \n5€ par enfant \nSur inscription au 03 81 87 80 49 ou par mail à reservationsmusees@besancon.fr
URL:https://www.mbaa.besancon.fr/event/les-grands-explorateurs-7-12-ans-dessine-moi-un-paysage-2/
CATEGORIES:atelier,jeune public,médiation,visite guidée
END:VEVENT
BEGIN:VEVENT
DTSTART;TZID=Europe/Paris:20230528T150000
DTEND;TZID=Europe/Paris:20230528T160000
DTSTAMP:20260423T141928
CREATED:20230124T142229Z
LAST-MODIFIED:20230302T080012Z
UID:7129-1685286000-1685289600@www.mbaa.besancon.fr
SUMMARY:Visite "Les incontournables du musée"
DESCRIPTION:Sur réservation à reservationsmusees@besancon.fr \nDans la limite des places disponibles.
URL:https://www.mbaa.besancon.fr/event/visite-les-incontournables-du-musee-14/
CATEGORIES:tout public,visite guidée
END:VEVENT
BEGIN:VEVENT
DTSTART;TZID=Europe/Paris:20230528T163000
DTEND;TZID=Europe/Paris:20230528T173000
DTSTAMP:20260423T141928
CREATED:20230124T144457Z
LAST-MODIFIED:20230302T075951Z
UID:7165-1685291400-1685295000@www.mbaa.besancon.fr
SUMMARY:Visite "Une ville sous nos pieds - Visite des collections archéologiques"
DESCRIPTION:Sur réservation à reservationsmusees@besancon.fr \nDans la limite des places disponibles.
URL:https://www.mbaa.besancon.fr/event/visite-une-ville-sous-nos-pieds-visite-des-collections-archeologiques-2/
CATEGORIES:tout public,visite guidée
END:VEVENT
END:VCALENDAR