BEGIN:VCALENDAR
VERSION:2.0
PRODID:-//musée des beaux-arts et d&#039;archéologie de Besançon - ECPv5.14.2.1//NONSGML v1.0//EN
CALSCALE:GREGORIAN
METHOD:PUBLISH
X-WR-CALNAME:musée des beaux-arts et d&#039;archéologie de Besançon
X-ORIGINAL-URL:https://www.mbaa.besancon.fr
X-WR-CALDESC:évènements pour musée des beaux-arts et d&#039;archéologie de Besançon
BEGIN:VTIMEZONE
TZID:Europe/Paris
BEGIN:DAYLIGHT
TZOFFSETFROM:+0100
TZOFFSETTO:+0200
TZNAME:CEST
DTSTART:20230326T010000
END:DAYLIGHT
BEGIN:STANDARD
TZOFFSETFROM:+0200
TZOFFSETTO:+0100
TZNAME:CET
DTSTART:20231029T010000
END:STANDARD
END:VTIMEZONE
BEGIN:VEVENT
DTSTART;TZID=Europe/Paris:20230521T103000
DTEND;TZID=Europe/Paris:20230521T123000
DTSTAMP:20260423T141934
CREATED:20230127T102851Z
LAST-MODIFIED:20230127T102851Z
UID:7277-1684665000-1684672200@www.mbaa.besancon.fr
SUMMARY:LES P’TITS CURIEUX 3 - 6 ANS / -	Les p’tits cailloux - Visite-atelier mosaïque
DESCRIPTION:« En 50 avant Jésus Christ\, toute la Gaule occupée. Toute ? » Oui ! Même Besançon\, qui s’appelle alors Vesontio. Les Gallo-romains y construisent de très riches maisons. Découverte des mosaïques conservées au musée\, puis place à la pratique ! \nDimanche 21 mai  à 10h30 \nMercredi 14 juin à 14h15 \n— \nDurée : 1h30 à 2h environ \nGratuit \nSur inscription au 03 81 87 80 49 ou par mail à reservationsmusees@besancon.fr
URL:https://www.mbaa.besancon.fr/event/les-ptits-curieux-3-6-ans-les-ptits-cailloux-visite-atelier-mosaique-5/
CATEGORIES:atelier,jeune public,médiation,visite guidée
END:VEVENT
BEGIN:VEVENT
DTSTART;TZID=Europe/Paris:20230521T150000
DTEND;TZID=Europe/Paris:20230521T160000
DTSTAMP:20260423T141934
CREATED:20230124T142156Z
LAST-MODIFIED:20230302T080044Z
UID:7127-1684681200-1684684800@www.mbaa.besancon.fr
SUMMARY:Visite "Les incontournables du musée"
DESCRIPTION:Sur réservation à reservationsmusees@besancon.fr \nDans la limite des places disponibles.
URL:https://www.mbaa.besancon.fr/event/visite-les-incontournables-du-musee-13/
CATEGORIES:tout public,visite guidée
END:VEVENT
BEGIN:VEVENT
DTSTART;TZID=Europe/Paris:20230521T163000
DTEND;TZID=Europe/Paris:20230521T173000
DTSTAMP:20260423T141934
CREATED:20230124T144406Z
LAST-MODIFIED:20230302T080027Z
UID:7163-1684686600-1684690200@www.mbaa.besancon.fr
SUMMARY:Visite "Modeler le réel - L'art de la sculpture"
DESCRIPTION:Sur réservation à reservationsmusees@besancon.fr \nDans la limite des places disponibles.
URL:https://www.mbaa.besancon.fr/event/visite-modeler-le-reel-lart-de-la-sculpture-2/
CATEGORIES:tout public,visite guidée
END:VEVENT
END:VCALENDAR