BEGIN:VCALENDAR
VERSION:2.0
PRODID:-//musée des beaux-arts et d&#039;archéologie de Besançon - ECPv5.14.2.1//NONSGML v1.0//EN
CALSCALE:GREGORIAN
METHOD:PUBLISH
X-WR-CALNAME:musée des beaux-arts et d&#039;archéologie de Besançon
X-ORIGINAL-URL:https://www.mbaa.besancon.fr
X-WR-CALDESC:évènements pour musée des beaux-arts et d&#039;archéologie de Besançon
BEGIN:VTIMEZONE
TZID:Europe/Paris
BEGIN:DAYLIGHT
TZOFFSETFROM:+0100
TZOFFSETTO:+0200
TZNAME:CEST
DTSTART:20230326T010000
END:DAYLIGHT
BEGIN:STANDARD
TZOFFSETFROM:+0200
TZOFFSETTO:+0100
TZNAME:CET
DTSTART:20231029T010000
END:STANDARD
END:VTIMEZONE
BEGIN:VEVENT
DTSTART;TZID=Europe/Paris:20230513T150000
DTEND;TZID=Europe/Paris:20230513T160000
DTSTAMP:20260423T141926
CREATED:20230124T140709Z
LAST-MODIFIED:20230221T124450Z
UID:7085-1683990000-1683993600@www.mbaa.besancon.fr
SUMMARY:Visite - Les samedis piétons
DESCRIPTION:Les samedis 13 mai et 10 juin à 15h : Visite guidée découverte du musée Les incontournables \nEntrée et visite gratuite\, dans la limite des places disponibles\, réservation conseillée : reservationsmusees@besancon.fr
URL:https://www.mbaa.besancon.fr/event/visite-les-samedis-pietons-3/
CATEGORIES:tout public,visite guidée
END:VEVENT
BEGIN:VEVENT
DTSTART;TZID=Europe/Paris:20230513T190000
DTEND;TZID=Europe/Paris:20230513T190000
DTSTAMP:20260423T141926
CREATED:20230127T090407Z
LAST-MODIFIED:20230127T090407Z
UID:7234-1684004400-1684004400@www.mbaa.besancon.fr
SUMMARY:Nuit Européenne des musées
DESCRIPTION:Samedi 13 mai de 19h à minuit\nVenez noctambuler au musée ! Des visites et des ateliers vous attendent. \nDans le cadre de la Nuit des Musées\, retrouvez le dispositif La classe\, l’œuvre et la restitution de projets scolaires conduits en partenariat avec le musée : comme chaque année\, les élèves se font à leur tour médiateurs culturels et commissaires d’exposition. \nProgramme détaillé à venir sur le site du musée et sur https://nuitdesmusees.culture.gouv.fr/ \nEntrées et animations gratuites
URL:https://www.mbaa.besancon.fr/event/nuit-europeenne-des-musees-3/
CATEGORIES:Evénement,manifestation,médiation,tout public
END:VEVENT
END:VCALENDAR