BEGIN:VCALENDAR
VERSION:2.0
PRODID:-//musée des beaux-arts et d&#039;archéologie de Besançon - ECPv5.14.2.1//NONSGML v1.0//EN
CALSCALE:GREGORIAN
METHOD:PUBLISH
X-WR-CALNAME:musée des beaux-arts et d&#039;archéologie de Besançon
X-ORIGINAL-URL:https://www.mbaa.besancon.fr
X-WR-CALDESC:évènements pour musée des beaux-arts et d&#039;archéologie de Besançon
BEGIN:VTIMEZONE
TZID:Europe/Paris
BEGIN:DAYLIGHT
TZOFFSETFROM:+0100
TZOFFSETTO:+0200
TZNAME:CEST
DTSTART:20230326T010000
END:DAYLIGHT
BEGIN:STANDARD
TZOFFSETFROM:+0200
TZOFFSETTO:+0100
TZNAME:CET
DTSTART:20231029T010000
END:STANDARD
END:VTIMEZONE
BEGIN:VEVENT
DTSTART;TZID=Europe/Paris:20230506T100000
DTEND;TZID=Europe/Paris:20230507T180000
DTSTAMP:20260423T142102
CREATED:20230125T102200Z
LAST-MODIFIED:20230125T102200Z
UID:7219-1683367200-1683482400@www.mbaa.besancon.fr
SUMMARY:Festival ludique de Besançon LUDINAM
DESCRIPTION:Samedi 6 et dimanche 7 mai 2023 de 10h à 18h \n \nDepuis sa création\, les musées du centre sont partenaires du festival de tous les jeux mais pas seulement. \nProgramme détaillé à venir sur le site du musée et sur https://www.ludinam.fr/\nEntrée gratuite avec le pass Ludinam \n 
URL:https://www.mbaa.besancon.fr/event/festival-ludique-de-besancon-ludinam/
CATEGORIES:jeu,Partenariat,tout public
END:VEVENT
BEGIN:VEVENT
DTSTART;TZID=Europe/Paris:20230507T103000
DTEND;TZID=Europe/Paris:20230507T113000
DTSTAMP:20260423T142102
CREATED:20230127T094514Z
LAST-MODIFIED:20230127T094514Z
UID:7246-1683455400-1683459000@www.mbaa.besancon.fr
SUMMARY:Visite famille
DESCRIPTION:Un musée\, qu’est-ce que c’est\, qu’est-ce qu’on trouve dedans ? Une sculpture\, une mosaïque\, c’est fait comment ? Autour d’une sélection d’œuvres\, découverte des expositions permanentes ou temporaires en compagnie d’un guide\, pour les petits et les grands. \nLes dimanches au musée : Tous les 1ers dimanches du mois à 10h30 \nLes dimanches 7 mai\, 4 juin. \nDurée une heure \nGratuit \nRéservation conseillée au 03 81 87 80 49 ou par mail reservationsmusees@besancon.fr
URL:https://www.mbaa.besancon.fr/event/visite-famille-30/
CATEGORIES:Famille,médiation,visite guidée
END:VEVENT
BEGIN:VEVENT
DTSTART;TZID=Europe/Paris:20230507T150000
DTEND;TZID=Europe/Paris:20230507T160000
DTSTAMP:20260423T142102
CREATED:20230124T142105Z
LAST-MODIFIED:20230302T080210Z
UID:7123-1683471600-1683475200@www.mbaa.besancon.fr
SUMMARY:Visite "Les incontournables du musée"
DESCRIPTION:Sur réservation à reservationsmusees@besancon.fr \nDans la limite des places disponibles.
URL:https://www.mbaa.besancon.fr/event/visite-les-incontournables-du-musee-11/
CATEGORIES:tout public,visite guidée
END:VEVENT
BEGIN:VEVENT
DTSTART;TZID=Europe/Paris:20230507T163000
DTEND;TZID=Europe/Paris:20230507T173000
DTSTAMP:20260423T142102
CREATED:20230124T144227Z
LAST-MODIFIED:20230302T080154Z
UID:7159-1683477000-1683480600@www.mbaa.besancon.fr
SUMMARY:Visite "Le corps en exergue - L'art du nu"
DESCRIPTION:Sur réservation à reservationsmusees@besancon.fr \nDans la limite des places disponibles.
URL:https://www.mbaa.besancon.fr/event/visite-le-corps-en-exergue-lart-du-nu/
CATEGORIES:tout public,visite guidée
END:VEVENT
END:VCALENDAR