BEGIN:VCALENDAR
VERSION:2.0
PRODID:-//musée des beaux-arts et d&#039;archéologie de Besançon - ECPv5.14.2.1//NONSGML v1.0//EN
CALSCALE:GREGORIAN
METHOD:PUBLISH
X-WR-CALNAME:musée des beaux-arts et d&#039;archéologie de Besançon
X-ORIGINAL-URL:https://www.mbaa.besancon.fr
X-WR-CALDESC:évènements pour musée des beaux-arts et d&#039;archéologie de Besançon
BEGIN:VTIMEZONE
TZID:Europe/Paris
BEGIN:DAYLIGHT
TZOFFSETFROM:+0100
TZOFFSETTO:+0200
TZNAME:CEST
DTSTART:20230326T010000
END:DAYLIGHT
BEGIN:STANDARD
TZOFFSETFROM:+0200
TZOFFSETTO:+0100
TZNAME:CET
DTSTART:20231029T010000
END:STANDARD
END:VTIMEZONE
BEGIN:VEVENT
DTSTART;TZID=Europe/Paris:20230429T100000
DTEND;TZID=Europe/Paris:20230430T180000
DTSTAMP:20260423T154915
CREATED:20230125T102055Z
LAST-MODIFIED:20230125T102055Z
UID:7217-1682762400-1682877600@www.mbaa.besancon.fr
SUMMARY:L’anniversaire des Sandales d'Empédocle
DESCRIPTION:Samedi 29 et dimanche 30 avril \nRencontre avec des écrivains et des invités de la librairie qui fête ses 50 ans. \nRenseignements https://www.sandalesdempedocle.fr
URL:https://www.mbaa.besancon.fr/event/lanniversaire-des-sandales-dempedocle/
CATEGORIES:Littérature,Partenariat
END:VEVENT
BEGIN:VEVENT
DTSTART;TZID=Europe/Paris:20230430T103000
DTEND;TZID=Europe/Paris:20230430T113000
DTSTAMP:20260423T154915
CREATED:20230127T094420Z
LAST-MODIFIED:20230127T094420Z
UID:7244-1682850600-1682854200@www.mbaa.besancon.fr
SUMMARY:Visite famille
DESCRIPTION:Un musée\, qu’est-ce que c’est\, qu’est-ce qu’on trouve dedans ? Une sculpture\, une mosaïque\, c’est fait comment ? Autour d’une sélection d’œuvres\, découverte des expositions permanentes ou temporaires en compagnie d’un guide\, pour les petits et les grands. \nLes dimanches au musée : Tous les 1ers dimanches du mois à 10h30 \nLes dimanches 30 avril\, 7 mai\, 4 juin. \nDurée une heure \nGratuit \nRéservation conseillée au 03 81 87 80 49 ou par mail reservationsmusees@besancon.fr
URL:https://www.mbaa.besancon.fr/event/visite-famille-29/
CATEGORIES:Famille,médiation,visite guidée
END:VEVENT
BEGIN:VEVENT
DTSTART;TZID=Europe/Paris:20230430T150000
DTEND;TZID=Europe/Paris:20230430T160000
DTSTAMP:20260423T154915
CREATED:20230124T142039Z
LAST-MODIFIED:20230302T080303Z
UID:7121-1682866800-1682870400@www.mbaa.besancon.fr
SUMMARY:Visite "Les incontournables du musée"
DESCRIPTION:Sur réservation à reservationsmusees@besancon.fr \nDans la limite des places disponibles.
URL:https://www.mbaa.besancon.fr/event/visite-les-incontournables-du-musee-10/
CATEGORIES:tout public,visite guidée
END:VEVENT
BEGIN:VEVENT
DTSTART;TZID=Europe/Paris:20230430T163000
DTEND;TZID=Europe/Paris:20230430T173000
DTSTAMP:20260423T154915
CREATED:20230124T144142Z
LAST-MODIFIED:20230302T080242Z
UID:7157-1682872200-1682875800@www.mbaa.besancon.fr
SUMMARY:Visite "Mythes et héros - Petites histoires mythologiques des collections"
DESCRIPTION:Sur réservation à reservationsmusees@besancon.fr \nDans la limite des places disponibles.
URL:https://www.mbaa.besancon.fr/event/visite-mythes-et-heros-petites-histoires-mythologiques-des-collections/
CATEGORIES:tout public,visite guidée
END:VEVENT
END:VCALENDAR