BEGIN:VCALENDAR
VERSION:2.0
PRODID:-//musée des beaux-arts et d&#039;archéologie de Besançon - ECPv5.14.2.1//NONSGML v1.0//EN
CALSCALE:GREGORIAN
METHOD:PUBLISH
X-WR-CALNAME:musée des beaux-arts et d&#039;archéologie de Besançon
X-ORIGINAL-URL:https://www.mbaa.besancon.fr
X-WR-CALDESC:évènements pour musée des beaux-arts et d&#039;archéologie de Besançon
BEGIN:VTIMEZONE
TZID:Europe/Paris
BEGIN:DAYLIGHT
TZOFFSETFROM:+0100
TZOFFSETTO:+0200
TZNAME:CEST
DTSTART:20230326T010000
END:DAYLIGHT
BEGIN:STANDARD
TZOFFSETFROM:+0200
TZOFFSETTO:+0100
TZNAME:CET
DTSTART:20231029T010000
END:STANDARD
END:VTIMEZONE
BEGIN:VEVENT
DTSTART;TZID=Europe/Paris:20230415T140000
DTEND;TZID=Europe/Paris:20230415T153000
DTSTAMP:20260423T154846
CREATED:20230125T101549Z
LAST-MODIFIED:20230328T092332Z
UID:7209-1681567200-1681572600@www.mbaa.besancon.fr
SUMMARY:"Le Grand Jboing Boyoyang" de la Compagnie Les Îles Voisines
DESCRIPTION:ATTENTION changement de lieu\, les deux spectacles se dérouleront au musée du Temps ! \nSamedi 15 avril  \nÀ 14h : public en situation de handicap intellectuel \nÀ 16h : tout public \nLes yeux bandés\, projetés à bord d’un train supersonique\, nous accostons sur le rivage de l’île Ouï-Dire. Cette île est pleine de bruits qui courent\, de rumeurs qui circulent et de légendes endormies. Les oreilles grandes ouvertes\, nous visitons la jungle. Derrière les sons\, se cache le silence. Toujours tapis\, là où les mots ne peuvent l’atteindre\, Le Grand Jboing Boyoyang observe avec malice. Un spectacle à l’aveugle\, une expérience de théâtre sonore et sensorielle qui plonge le public dans l’univers du son et du bruitage. \nDurée : 1h\, comprenant un temps d’échange avec les artistes. \nSpectacle gratuit\, sur réservation au 03 81 87 80 49 ou par mail à reservationsmusees@besancon.fr\, dans la limite des places disponibles.
URL:https://www.mbaa.besancon.fr/event/le-grand-jboing-boyoyang-de-la-compagnie-les-iles-voisines/
CATEGORIES:handicap,Théâtre
END:VEVENT
BEGIN:VEVENT
DTSTART;TZID=Europe/Paris:20230415T140000
DTEND;TZID=Europe/Paris:20230415T150000
DTSTAMP:20260423T154846
CREATED:20230127T111023Z
LAST-MODIFIED:20230127T111339Z
UID:7343-1681567200-1681570800@www.mbaa.besancon.fr
SUMMARY:Journée Tourisme et Handicap : spéciale handicap intellectuel
DESCRIPTION:Samedi 15 avril à 14h \nSpectacle Le Grand Jboing Boyoyang de la Compagnie Les Îles Voisines \nUn spectacle les yeux bandés\, à la recherche d’un monstre marin… \nEn partenariat avec l’Atlas de la Fondation Pluriel \nDurée : 1H\, comprenant un temps d’échange avec les artistes. \nAnimation également intéressante pour les publics en situation de handicap visuel. \n— \nRéservation obligatoire pour les animations : \nMiléna Buguet \nRéférente accessibilité \nmilena.buguet@besancon.fr \n03 81 41 57 86
URL:https://www.mbaa.besancon.fr/event/journee-tourisme-et-handicap-speciale-handicap-intellectuel/
CATEGORIES:handicap,spectacle
END:VEVENT
BEGIN:VEVENT
DTSTART;TZID=Europe/Paris:20230415T160000
DTEND;TZID=Europe/Paris:20230415T173000
DTSTAMP:20260423T154846
CREATED:20230125T101651Z
LAST-MODIFIED:20230328T092409Z
UID:7211-1681574400-1681579800@www.mbaa.besancon.fr
SUMMARY:"Le Grand Jboing Boyoyang" de la Compagnie Les Îles Voisines
DESCRIPTION:ATTENTION changement de lieu\, les deux spectacles se dérouleront au musée du Temps ! \nSamedi 15 avril  \nÀ 14h : public en situation de handicap intellectuel \nÀ 16h : tout public \nLes yeux bandés\, projetés à bord d’un train supersonique\, nous accostons sur le rivage de l’île Ouï-Dire. Cette île est pleine de bruits qui courent\, de rumeurs qui circulent et de légendes endormies. Les oreilles grandes ouvertes\, nous visitons la jungle. Derrière les sons\, se cache le silence. Toujours tapis\, là où les mots ne peuvent l’atteindre\, Le Grand Jboing Boyoyang observe avec malice. Un spectacle à l’aveugle\, une expérience de théâtre sonore et sensorielle qui plonge le public dans l’univers du son et du bruitage. \nDurée : 1h\, comprenant un temps d’échange avec les artistes. \nSpectacle gratuit\, sur réservation au 03 81 87 80 49 ou par mail à reservationsmusees@besancon.fr\, dans la limite des places disponibles.
URL:https://www.mbaa.besancon.fr/event/le-grand-jboing-boyoyang-de-la-compagnie-les-iles-voisines-2/
CATEGORIES:Théâtre,tout public
END:VEVENT
END:VCALENDAR