BEGIN:VCALENDAR
VERSION:2.0
PRODID:-//musée des beaux-arts et d&#039;archéologie de Besançon - ECPv5.14.2.1//NONSGML v1.0//EN
CALSCALE:GREGORIAN
METHOD:PUBLISH
X-WR-CALNAME:musée des beaux-arts et d&#039;archéologie de Besançon
X-ORIGINAL-URL:https://www.mbaa.besancon.fr
X-WR-CALDESC:évènements pour musée des beaux-arts et d&#039;archéologie de Besançon
BEGIN:VTIMEZONE
TZID:Europe/Paris
BEGIN:DAYLIGHT
TZOFFSETFROM:+0100
TZOFFSETTO:+0200
TZNAME:CEST
DTSTART:20230326T010000
END:DAYLIGHT
BEGIN:STANDARD
TZOFFSETFROM:+0200
TZOFFSETTO:+0100
TZNAME:CET
DTSTART:20231029T010000
END:STANDARD
END:VTIMEZONE
BEGIN:VEVENT
DTSTART;TZID=Europe/Paris:20230405T100000
DTEND;TZID=Europe/Paris:20230409T180000
DTSTAMP:20260423T171837
CREATED:20230125T101129Z
LAST-MODIFIED:20230404T065718Z
UID:7205-1680688800-1681063200@www.mbaa.besancon.fr
SUMMARY:Festival d'autres formes
DESCRIPTION:Du 5 au 9 avril 2023 \n« D’Autres Formes » est un nouveau festival à Besançon qui croise la musique avec les arts numériques pour proposer et imaginer des formes artistiques novatrices et accessibles à un très large public de 7 à 107 ans. Vous aurez l’opportunité d’interagir dans des installations numériques\, d’assister des concerts sous forme inédite et de jouer avec du gaming créatif. Le musée des beaux-arts et d’archéologie accueillera à cette occasion l’installation interactive de Nicolas Chevalier autour des Chinoiseries de François Boucher. \nL’installation est gratuite mais l’entrée du musée payante … \nPour consulter les tarifs : https://www.mbaa.besancon.fr/infos-pratiques/ \n 
URL:https://www.mbaa.besancon.fr/event/festival-dautres-formes/
CATEGORIES:Installation,musique,Numérique,tout public
END:VEVENT
BEGIN:VEVENT
DTSTART;TZID=Europe/Paris:20230409T103000
DTEND;TZID=Europe/Paris:20230409T113000
DTSTAMP:20260423T171837
CREATED:20230127T100133Z
LAST-MODIFIED:20230127T100133Z
UID:7254-1681036200-1681039800@www.mbaa.besancon.fr
SUMMARY:Éveil tout-petits 18 mois-3 ans
DESCRIPTION:Ici on scrute les animaux dans un ou deux tableaux\, avec des bruits\, des comptines\, des histoires\, des marionnettes… \nAmenez votre propre doudou (chien\, vache\, mouton\, chèvre\, cochon ou cheval de préférence) ! \n  \nLes dimanches au musée : Le 2e dimanche du mois à 10h30 \nDimanche 9 avril\, 14 mai\, 11 juin. \nDurée : 30 min environ \nGratuit. \nSur inscription au 03 81 87 80 49 ou par mail à reservationsmusees@besancon.fr
URL:https://www.mbaa.besancon.fr/event/eveil-tout-petits-18-mois-3-ans-13/
CATEGORIES:jeune public,médiation,visite guidée
END:VEVENT
BEGIN:VEVENT
DTSTART;TZID=Europe/Paris:20230409T150000
DTEND;TZID=Europe/Paris:20230409T160000
DTSTAMP:20260423T171837
CREATED:20230124T141917Z
LAST-MODIFIED:20230302T080524Z
UID:7115-1681052400-1681056000@www.mbaa.besancon.fr
SUMMARY:Visite "Les incontournables du musée"
DESCRIPTION:Sur réservation à reservationsmusees@besancon.fr \nDans la limite des places disponibles.
URL:https://www.mbaa.besancon.fr/event/visite-les-incontournables-du-musee-7/
CATEGORIES:tout public,visite guidée
END:VEVENT
BEGIN:VEVENT
DTSTART;TZID=Europe/Paris:20230409T163000
DTEND;TZID=Europe/Paris:20230409T173000
DTSTAMP:20260423T171837
CREATED:20230124T143910Z
LAST-MODIFIED:20230302T080504Z
UID:7151-1681057800-1681061400@www.mbaa.besancon.fr
SUMMARY:Visite "Où sont les femmes ?" Représentation des femmes dans l'art et femmes artistes
DESCRIPTION:Sur réservation à reservationsmusees@besancon.fr \nDans la limite des places disponibles.
URL:https://www.mbaa.besancon.fr/event/visite-ou-sont-les-femmes-representation-des-femmes-dans-lart-et-femmes-artistes-2/
CATEGORIES:tout public,visite guidée
END:VEVENT
END:VCALENDAR