BEGIN:VCALENDAR
VERSION:2.0
PRODID:-//musée des beaux-arts et d&#039;archéologie de Besançon - ECPv5.14.2.1//NONSGML v1.0//EN
CALSCALE:GREGORIAN
METHOD:PUBLISH
X-WR-CALNAME:musée des beaux-arts et d&#039;archéologie de Besançon
X-ORIGINAL-URL:https://www.mbaa.besancon.fr
X-WR-CALDESC:évènements pour musée des beaux-arts et d&#039;archéologie de Besançon
BEGIN:VTIMEZONE
TZID:Europe/Paris
BEGIN:DAYLIGHT
TZOFFSETFROM:+0100
TZOFFSETTO:+0200
TZNAME:CEST
DTSTART:20230326T010000
END:DAYLIGHT
BEGIN:STANDARD
TZOFFSETFROM:+0200
TZOFFSETTO:+0100
TZNAME:CET
DTSTART:20231029T010000
END:STANDARD
END:VTIMEZONE
BEGIN:VEVENT
DTSTART;TZID=Europe/Paris:20230405T100000
DTEND;TZID=Europe/Paris:20230409T180000
DTSTAMP:20260423T154814
CREATED:20230125T101129Z
LAST-MODIFIED:20230404T065718Z
UID:7205-1680688800-1681063200@www.mbaa.besancon.fr
SUMMARY:Festival d'autres formes
DESCRIPTION:Du 5 au 9 avril 2023 \n« D’Autres Formes » est un nouveau festival à Besançon qui croise la musique avec les arts numériques pour proposer et imaginer des formes artistiques novatrices et accessibles à un très large public de 7 à 107 ans. Vous aurez l’opportunité d’interagir dans des installations numériques\, d’assister des concerts sous forme inédite et de jouer avec du gaming créatif. Le musée des beaux-arts et d’archéologie accueillera à cette occasion l’installation interactive de Nicolas Chevalier autour des Chinoiseries de François Boucher. \nL’installation est gratuite mais l’entrée du musée payante … \nPour consulter les tarifs : https://www.mbaa.besancon.fr/infos-pratiques/ \n 
URL:https://www.mbaa.besancon.fr/event/festival-dautres-formes/
CATEGORIES:Installation,musique,Numérique,tout public
END:VEVENT
BEGIN:VEVENT
DTSTART;TZID=Europe/Paris:20230408T150000
DTEND;TZID=Europe/Paris:20230408T160000
DTSTAMP:20260423T154814
CREATED:20230124T140630Z
LAST-MODIFIED:20230221T124535Z
UID:7083-1680966000-1680969600@www.mbaa.besancon.fr
SUMMARY:Visite - Les samedis piétons
DESCRIPTION:Les samedis 8 avril\, 13 mai et 10 juin à 15h : Visite guidée découverte du musée Les incontournables \nEntrée et visite gratuite\, dans la limite des places disponibles\, réservation conseillée : reservationsmusees@besancon.fr
URL:https://www.mbaa.besancon.fr/event/visite-les-samedis-pietons-2/
CATEGORIES:tout public,visite guidée
END:VEVENT
END:VCALENDAR