BEGIN:VCALENDAR
VERSION:2.0
PRODID:-//musée des beaux-arts et d&#039;archéologie de Besançon - ECPv5.14.2.1//NONSGML v1.0//EN
CALSCALE:GREGORIAN
METHOD:PUBLISH
X-WR-CALNAME:musée des beaux-arts et d&#039;archéologie de Besançon
X-ORIGINAL-URL:https://www.mbaa.besancon.fr
X-WR-CALDESC:évènements pour musée des beaux-arts et d&#039;archéologie de Besançon
BEGIN:VTIMEZONE
TZID:Europe/Paris
BEGIN:DAYLIGHT
TZOFFSETFROM:+0100
TZOFFSETTO:+0200
TZNAME:CEST
DTSTART:20230326T010000
END:DAYLIGHT
BEGIN:STANDARD
TZOFFSETFROM:+0200
TZOFFSETTO:+0100
TZNAME:CET
DTSTART:20231029T010000
END:STANDARD
END:VTIMEZONE
BEGIN:VEVENT
DTSTART;TZID=Europe/Paris:20230402T103000
DTEND;TZID=Europe/Paris:20230402T113000
DTSTAMP:20260423T154856
CREATED:20230127T094327Z
LAST-MODIFIED:20230127T094327Z
UID:7242-1680431400-1680435000@www.mbaa.besancon.fr
SUMMARY:Visite famille
DESCRIPTION:Un musée\, qu’est-ce que c’est\, qu’est-ce qu’on trouve dedans ? Une sculpture\, une mosaïque\, c’est fait comment ? Autour d’une sélection d’œuvres\, découverte des expositions permanentes ou temporaires en compagnie d’un guide\, pour les petits et les grands. \nLes dimanches au musée : Tous les 1ers dimanches du mois à 10h30 \nLes dimanches 2 avril\, 30 avril\, 7 mai\, 4 juin. \nDurée une heure \nGratuit \nRéservation conseillée au 03 81 87 80 49 ou par mail reservationsmusees@besancon.fr
URL:https://www.mbaa.besancon.fr/event/visite-famille-28/
CATEGORIES:Famille,médiation,visite guidée
END:VEVENT
BEGIN:VEVENT
DTSTART;TZID=Europe/Paris:20230402T150000
DTEND;TZID=Europe/Paris:20230402T160000
DTSTAMP:20260423T154856
CREATED:20230124T141849Z
LAST-MODIFIED:20230302T080612Z
UID:7113-1680447600-1680451200@www.mbaa.besancon.fr
SUMMARY:Visite "Les incontournables du musée"
DESCRIPTION:Sur réservation à reservationsmusees@besancon.fr \nDans la limite des places disponibles.
URL:https://www.mbaa.besancon.fr/event/visite-les-incontournables-du-musee-6/
CATEGORIES:tout public,visite guidée
END:VEVENT
BEGIN:VEVENT
DTSTART;TZID=Europe/Paris:20230402T163000
DTEND;TZID=Europe/Paris:20230402T173000
DTSTAMP:20260423T154856
CREATED:20230124T143740Z
LAST-MODIFIED:20230302T080550Z
UID:7149-1680453000-1680456600@www.mbaa.besancon.fr
SUMMARY:Visite "Égyptomania- Visite des collections archéologiques"
DESCRIPTION:Sur réservation à reservationsmusees@besancon.fr \nDans la limite des places disponibles.
URL:https://www.mbaa.besancon.fr/event/visite-egyptomania-visite-des-collections-archeologiques/
CATEGORIES:tout public,visite guidée
END:VEVENT
END:VCALENDAR