BEGIN:VCALENDAR
VERSION:2.0
PRODID:-//musée des beaux-arts et d&#039;archéologie de Besançon - ECPv5.14.2.1//NONSGML v1.0//EN
CALSCALE:GREGORIAN
METHOD:PUBLISH
X-WR-CALNAME:musée des beaux-arts et d&#039;archéologie de Besançon
X-ORIGINAL-URL:https://www.mbaa.besancon.fr
X-WR-CALDESC:évènements pour musée des beaux-arts et d&#039;archéologie de Besançon
BEGIN:VTIMEZONE
TZID:Europe/Paris
BEGIN:DAYLIGHT
TZOFFSETFROM:+0100
TZOFFSETTO:+0200
TZNAME:CEST
DTSTART:20230326T010000
END:DAYLIGHT
BEGIN:STANDARD
TZOFFSETFROM:+0200
TZOFFSETTO:+0100
TZNAME:CET
DTSTART:20231029T010000
END:STANDARD
END:VTIMEZONE
BEGIN:VEVENT
DTSTART;TZID=Europe/Paris:20230401T100000
DTEND;TZID=Europe/Paris:20230401T180000
DTSTAMP:20260423T154914
CREATED:20230127T090156Z
LAST-MODIFIED:20230127T090156Z
UID:7232-1680343200-1680372000@www.mbaa.besancon.fr
SUMMARY:Don du sang au musée avec l’Etablissement Français du Sang et le Rotary club
DESCRIPTION:Samedi 1er avril 2023 \nPour la deuxième année consécutive\, le musée des beaux–arts et d’archéologie participe à la collecte de sang de l’EFS pour sauver des vies. L’entrée du musée sera gratuite pour les donneuses et les donneurs.
URL:https://www.mbaa.besancon.fr/event/don-du-sang-au-musee-avec-letablissement-francais-du-sang-et-le-rotary-club/
CATEGORIES:Evénement,Partenariat,public adulte
END:VEVENT
END:VCALENDAR