BEGIN:VCALENDAR
VERSION:2.0
PRODID:-//musée des beaux-arts et d&#039;archéologie de Besançon - ECPv5.14.2.1//NONSGML v1.0//EN
CALSCALE:GREGORIAN
METHOD:PUBLISH
X-WR-CALNAME:musée des beaux-arts et d&#039;archéologie de Besançon
X-ORIGINAL-URL:https://www.mbaa.besancon.fr
X-WR-CALDESC:évènements pour musée des beaux-arts et d&#039;archéologie de Besançon
BEGIN:VTIMEZONE
TZID:Europe/Paris
BEGIN:DAYLIGHT
TZOFFSETFROM:+0100
TZOFFSETTO:+0200
TZNAME:CEST
DTSTART:20230326T010000
END:DAYLIGHT
BEGIN:STANDARD
TZOFFSETFROM:+0200
TZOFFSETTO:+0100
TZNAME:CET
DTSTART:20231029T010000
END:STANDARD
END:VTIMEZONE
BEGIN:VEVENT
DTSTART;TZID=Europe/Paris:20230312T103000
DTEND;TZID=Europe/Paris:20230312T113000
DTSTAMP:20260423T171729
CREATED:20230127T100029Z
LAST-MODIFIED:20230127T100029Z
UID:7252-1678617000-1678620600@www.mbaa.besancon.fr
SUMMARY:Éveil tout-petits 18 mois-3 ans
DESCRIPTION:Ici on scrute les animaux dans un ou deux tableaux\, avec des bruits\, des comptines\, des histoires\, des marionnettes… \nAmenez votre propre doudou (chien\, vache\, mouton\, chèvre\, cochon ou cheval de préférence) ! \n  \nLes dimanches au musée : Le 2e dimanche du mois à 10h30 \nDimanche 12 mars\, 09 avril\, 14 mai\, 11 juin. \nDurée : 30 min environ \nGratuit. \nSur inscription au 03 81 87 80 49 ou par mail à reservationsmusees@besancon.fr
URL:https://www.mbaa.besancon.fr/event/eveil-tout-petits-18-mois-3-ans-12/
CATEGORIES:éveil,jeune public,médiation,visite guidée
END:VEVENT
BEGIN:VEVENT
DTSTART;TZID=Europe/Paris:20230312T150000
DTEND;TZID=Europe/Paris:20230312T160000
DTSTAMP:20260423T171729
CREATED:20221205T112117Z
LAST-MODIFIED:20230302T080951Z
UID:6991-1678633200-1678636800@www.mbaa.besancon.fr
SUMMARY:Visite guidée de l'exposition "Le Beau Siècle"
DESCRIPTION:Sur réservation à reservationsmusees@besancon.fr \nDans la limite des places disponibles.
URL:https://www.mbaa.besancon.fr/event/visite-guidee-de-lexposition-le-beau-siecle-6/
CATEGORIES:expo,tout public,visite guidée
END:VEVENT
BEGIN:VEVENT
DTSTART;TZID=Europe/Paris:20230312T150000
DTEND;TZID=Europe/Paris:20230312T160000
DTSTAMP:20260423T171729
CREATED:20230124T141437Z
LAST-MODIFIED:20230302T080912Z
UID:7101-1678633200-1678636800@www.mbaa.besancon.fr
SUMMARY:Visite guidée "Le Beau Siècle"
DESCRIPTION:Sur réservation à reservationsmusees@besancon.fr \nDans la limite des places disponibles.
URL:https://www.mbaa.besancon.fr/event/visite-guidee-le-beau-siecle-6/
CATEGORIES:expo,tout public,visite guidée
END:VEVENT
BEGIN:VEVENT
DTSTART;TZID=Europe/Paris:20230312T163000
DTEND;TZID=Europe/Paris:20230312T173000
DTSTAMP:20260423T171729
CREATED:20230124T142918Z
LAST-MODIFIED:20230302T080850Z
UID:7143-1678638600-1678642200@www.mbaa.besancon.fr
SUMMARY:Visite "La collection Besson. L'art du XXe siècle"
DESCRIPTION:Sur réservation à reservationsmusees@besancon.fr \nDans la limite des places disponibles.
URL:https://www.mbaa.besancon.fr/event/visite-la-collection-besson-lart-du-xxe-siecle/
CATEGORIES:tout public,visite guidée
END:VEVENT
END:VCALENDAR