BEGIN:VCALENDAR
VERSION:2.0
PRODID:-//musée des beaux-arts et d&#039;archéologie de Besançon - ECPv5.14.2.1//NONSGML v1.0//EN
CALSCALE:GREGORIAN
METHOD:PUBLISH
X-WR-CALNAME:musée des beaux-arts et d&#039;archéologie de Besançon
X-ORIGINAL-URL:https://www.mbaa.besancon.fr
X-WR-CALDESC:évènements pour musée des beaux-arts et d&#039;archéologie de Besançon
BEGIN:VTIMEZONE
TZID:Europe/Paris
BEGIN:DAYLIGHT
TZOFFSETFROM:+0100
TZOFFSETTO:+0200
TZNAME:CEST
DTSTART:20230326T010000
END:DAYLIGHT
BEGIN:STANDARD
TZOFFSETFROM:+0200
TZOFFSETTO:+0100
TZNAME:CET
DTSTART:20231029T010000
END:STANDARD
END:VTIMEZONE
BEGIN:VEVENT
DTSTART;TZID=Europe/Paris:20230224T123000
DTEND;TZID=Europe/Paris:20230226T183000
DTSTAMP:20260423T184320
CREATED:20230125T100338Z
LAST-MODIFIED:20230125T100338Z
UID:7199-1677241800-1677436200@www.mbaa.besancon.fr
SUMMARY:Les classiques aux beaux-arts / Mini-festival avec l’Ensemble Cristofori
DESCRIPTION:Du vendredi 24 au dimanche 26 février 2023\n> Vendredi 24 février 2023 à 12h30 : « Dans l’intimité de Mozart » (1762-1791) Divertimento pour violon\, alto et violoncelle KV 563 (1788) \nDurée du concert : 45 minutes\, gratuit. \n> Vendredi 24 février 2023 à 20h : « L’originalité sans égal » de Carl Philip Emmanuel Bach (1714-1788).  Quatuors pour traverso\, alto\, et continuo Wq 93 (1788)\, Wq 94 (1788) et Wq 95 (1788)\, Muzeo Clementi (1752-1832) Trio pour traverso\, violoncelle et pianoforte (La Chasse)\, Joseph Haydn (1732-1809) Trio pour traverso\, violoncelle et pianoforte (1790)\, \nDurée du concert : 1h15\, tarif  plein : 25€/ tarif réduit 19€ \n> Samedi 25 février 2023 à 11h15  : Sophia Dussek (1775-1831) : redécouverte d’une harpiste et compositrice\, 5 sonates opus 2 pour harpe seule (1796) \nDurée du concert : 45 min\, Gratuit \n> Samedi 25 février 2023 à 20h : Mozart et la «démocratie» du contrepoint : Quatuor pour cordes et pianoforte\, Trio en ut majeur KV 548 pour pianoforte\, violon et violoncelle\, Quatuor KV 493 pour cordes et pianoforte \nDurée du concert 1h20 min\, tarif plein : 25€/ tarif réduit 19€ \n> Dimanche 26 février 2023 à 11h15 : « Cordes d’équilibristes » Duos pour deux violons\, violon et alto\, alto et violoncelle\, violon et violoncelle. Carl Stamitz (op. 18 N°6)\, Ignace Pleyel (B525)\, Luigi Boccherini (op.3)\, Antonin Reicha (op.1)\, Ludwig van Beethoven (WoO32)\, Joseph Haydn (Hob VI). \nDurée du concert 45 min\, Gratuit \n> Dimanche 26 février 2023 à 17h : « L’étonnante voix de Joseph Haydn »\, Mélodies pour mezzo-soprano et pianoforte Ariane à Naxos\, Mélodies Écossais pour mezzo-soprano\, violon\, violoncelle et pianoforte\, \nDurée du concert 1h15 min\, tarif plein : 25€/tarif réduit 19€ \n——- \nRéservation en ligne sur www.besancon-tourisme.com  \nDans la limite des places disponibles.
URL:https://www.mbaa.besancon.fr/event/les-classiques-aux-beaux-arts-mini-festival-avec-lensemble-cristofori/
CATEGORIES:musique,Partenariat,tout public
END:VEVENT
BEGIN:VEVENT
DTSTART;TZID=Europe/Paris:20230226T103000
DTEND;TZID=Europe/Paris:20230226T123000
DTSTAMP:20260423T184320
CREATED:20230127T110745Z
LAST-MODIFIED:20230127T110745Z
UID:7339-1677407400-1677414600@www.mbaa.besancon.fr
SUMMARY:LES GRANDS EXPLORATEURS 7 - 12 ANS / -	Miroir\, mon beau miroir!
DESCRIPTION:L’art du portrait au 18e: entre apparence et réalité: visite -atelier portrait peinture \nEn s’inspirant de l’exposition le « Beau siècle »et/ou des collections permanentes du MBAA \, cette visite propose une réflexion sur l’art du portrait au 18e. Quelles étaient  les règles\, les canons\, les artifices pour sublimer le modèle?  Apparence ou réalité\,  un atelier  propose la création\,  en peinture et d’après un portrait de l’époque\, d’établir un  parallèle entre les canons de beauté du 18e et ceux du 21e. \nDimanche 26 février à 10h30 \nMercredi 26 avril à 14h15 \n— \nDurée : 2h \n5€ par enfant \nSur inscription au 03 81 87 80 49 ou par mail à reservationsmusees@besancon.fr
URL:https://www.mbaa.besancon.fr/event/les-grands-explorateurs-7-12-ans-miroir-mon-beau-miroir-2/
CATEGORIES:atelier,jeune public,médiation,visite guidée
END:VEVENT
BEGIN:VEVENT
DTSTART;TZID=Europe/Paris:20230226T111500
DTEND;TZID=Europe/Paris:20230226T121500
DTSTAMP:20260423T184320
CREATED:20221205T111351Z
LAST-MODIFIED:20221205T111351Z
UID:6976-1677410100-1677413700@www.mbaa.besancon.fr
SUMMARY:Trésors de musique de chambre
DESCRIPTION:Réservation en ligne sur www.besancon-tourisme.com\nDans la limite des places disponibles. \n—\nDimanche 26 février 2023 à 11h15\nCordes d’équilibristes\nDuos pour deux violons\, violon et alto\, alto et violoncelle\, violon et violoncelle. Carl Stamitz (op. 18 N°6)\, Ignace Pleyel (B525)\, Luigi Boccherini (op.3)\, Antonin Reicha (op.1)\, Ludwig van Beethoven (WoO32)\, Joseph Haydn (Hob VI).\nDurée du concert 45 min\nGratuit\n—\nDimanche 26 février 2023 à 17h\nL’étonnante voix de Joseph Haydn\nMélodies pour mezzo-soprano et pianoforte Ariane à Naxos\nMélodies Écossais pour mezzo-soprano\, violon\, violoncelle et pianoforte\nDurée du concert 1h15 min\n25€/tarif réduit 19€
URL:https://www.mbaa.besancon.fr/event/tresors-de-musique-de-chambre-4/
CATEGORIES:concert,musique,public adulte
END:VEVENT
BEGIN:VEVENT
DTSTART;TZID=Europe/Paris:20230226T150000
DTEND;TZID=Europe/Paris:20230226T160000
DTSTAMP:20260423T184320
CREATED:20221205T112016Z
LAST-MODIFIED:20221205T112016Z
UID:6987-1677423600-1677427200@www.mbaa.besancon.fr
SUMMARY:Visite guidée de l'exposition "Le Beau Siècle"
DESCRIPTION:
URL:https://www.mbaa.besancon.fr/event/visite-guidee-de-lexposition-le-beau-siecle-4/
CATEGORIES:expo,tout public,visite guidée
END:VEVENT
BEGIN:VEVENT
DTSTART;TZID=Europe/Paris:20230226T150000
DTEND;TZID=Europe/Paris:20230226T160000
DTSTAMP:20260423T184320
CREATED:20230124T141320Z
LAST-MODIFIED:20230124T141320Z
UID:7097-1677423600-1677427200@www.mbaa.besancon.fr
SUMMARY:Visite guidée "Le Beau Siècle"
DESCRIPTION:
URL:https://www.mbaa.besancon.fr/event/visite-guidee-le-beau-siecle-4/
CATEGORIES:expo,tout public,visite guidée
END:VEVENT
BEGIN:VEVENT
DTSTART;TZID=Europe/Paris:20230226T163000
DTEND;TZID=Europe/Paris:20230226T173000
DTSTAMP:20260423T184320
CREATED:20230124T142639Z
LAST-MODIFIED:20230124T142639Z
UID:7139-1677429000-1677432600@www.mbaa.besancon.fr
SUMMARY:Visite "Modeler le réel. L'art de la sculpture"
DESCRIPTION:
URL:https://www.mbaa.besancon.fr/event/visite-modeler-le-reel-lart-de-la-sculpture/
CATEGORIES:tout public,visite guidée
END:VEVENT
BEGIN:VEVENT
DTSTART;TZID=Europe/Paris:20230226T170000
DTEND;TZID=Europe/Paris:20230226T180000
DTSTAMP:20260423T184320
CREATED:20221205T111428Z
LAST-MODIFIED:20221205T111445Z
UID:6978-1677430800-1677434400@www.mbaa.besancon.fr
SUMMARY:Trésors de musique de chambre
DESCRIPTION:Réservation en ligne sur www.besancon-tourisme.com\nDans la limite des places disponibles. \n—\nDimanche 26 février 2023 à 17h\nL’étonnante voix de Joseph Haydn\nMélodies pour mezzo-soprano et pianoforte Ariane à Naxos\nMélodies Écossais pour mezzo-soprano\, violon\, violoncelle et pianoforte\nDurée du concert 1h15 min\n25€/tarif réduit 19€
URL:https://www.mbaa.besancon.fr/event/6978/
CATEGORIES:concert,musique,public adulte
END:VEVENT
END:VCALENDAR