BEGIN:VCALENDAR
VERSION:2.0
PRODID:-//musée des beaux-arts et d&#039;archéologie de Besançon - ECPv5.14.2.1//NONSGML v1.0//EN
CALSCALE:GREGORIAN
METHOD:PUBLISH
X-WR-CALNAME:musée des beaux-arts et d&#039;archéologie de Besançon
X-ORIGINAL-URL:https://www.mbaa.besancon.fr
X-WR-CALDESC:évènements pour musée des beaux-arts et d&#039;archéologie de Besançon
BEGIN:VTIMEZONE
TZID:Europe/Paris
BEGIN:DAYLIGHT
TZOFFSETFROM:+0100
TZOFFSETTO:+0200
TZNAME:CEST
DTSTART:20230326T010000
END:DAYLIGHT
BEGIN:STANDARD
TZOFFSETFROM:+0200
TZOFFSETTO:+0100
TZNAME:CET
DTSTART:20231029T010000
END:STANDARD
END:VTIMEZONE
BEGIN:VEVENT
DTSTART;TZID=Europe/Paris:20230224T123000
DTEND;TZID=Europe/Paris:20230226T183000
DTSTAMP:20260423T184322
CREATED:20230125T100338Z
LAST-MODIFIED:20230125T100338Z
UID:7199-1677241800-1677436200@www.mbaa.besancon.fr
SUMMARY:Les classiques aux beaux-arts / Mini-festival avec l’Ensemble Cristofori
DESCRIPTION:Du vendredi 24 au dimanche 26 février 2023\n> Vendredi 24 février 2023 à 12h30 : « Dans l’intimité de Mozart » (1762-1791) Divertimento pour violon\, alto et violoncelle KV 563 (1788) \nDurée du concert : 45 minutes\, gratuit. \n> Vendredi 24 février 2023 à 20h : « L’originalité sans égal » de Carl Philip Emmanuel Bach (1714-1788).  Quatuors pour traverso\, alto\, et continuo Wq 93 (1788)\, Wq 94 (1788) et Wq 95 (1788)\, Muzeo Clementi (1752-1832) Trio pour traverso\, violoncelle et pianoforte (La Chasse)\, Joseph Haydn (1732-1809) Trio pour traverso\, violoncelle et pianoforte (1790)\, \nDurée du concert : 1h15\, tarif  plein : 25€/ tarif réduit 19€ \n> Samedi 25 février 2023 à 11h15  : Sophia Dussek (1775-1831) : redécouverte d’une harpiste et compositrice\, 5 sonates opus 2 pour harpe seule (1796) \nDurée du concert : 45 min\, Gratuit \n> Samedi 25 février 2023 à 20h : Mozart et la «démocratie» du contrepoint : Quatuor pour cordes et pianoforte\, Trio en ut majeur KV 548 pour pianoforte\, violon et violoncelle\, Quatuor KV 493 pour cordes et pianoforte \nDurée du concert 1h20 min\, tarif plein : 25€/ tarif réduit 19€ \n> Dimanche 26 février 2023 à 11h15 : « Cordes d’équilibristes » Duos pour deux violons\, violon et alto\, alto et violoncelle\, violon et violoncelle. Carl Stamitz (op. 18 N°6)\, Ignace Pleyel (B525)\, Luigi Boccherini (op.3)\, Antonin Reicha (op.1)\, Ludwig van Beethoven (WoO32)\, Joseph Haydn (Hob VI). \nDurée du concert 45 min\, Gratuit \n> Dimanche 26 février 2023 à 17h : « L’étonnante voix de Joseph Haydn »\, Mélodies pour mezzo-soprano et pianoforte Ariane à Naxos\, Mélodies Écossais pour mezzo-soprano\, violon\, violoncelle et pianoforte\, \nDurée du concert 1h15 min\, tarif plein : 25€/tarif réduit 19€ \n——- \nRéservation en ligne sur www.besancon-tourisme.com  \nDans la limite des places disponibles.
URL:https://www.mbaa.besancon.fr/event/les-classiques-aux-beaux-arts-mini-festival-avec-lensemble-cristofori/
CATEGORIES:musique,Partenariat,tout public
END:VEVENT
BEGIN:VEVENT
DTSTART;TZID=Europe/Paris:20230225T090000
DTEND;TZID=Europe/Paris:20230225T123000
DTSTAMP:20260423T184322
CREATED:20230124T150327Z
LAST-MODIFIED:20230124T150327Z
UID:7179-1677315600-1677328200@www.mbaa.besancon.fr
SUMMARY:MBAA académie - Petits stages pour grandes personnes
DESCRIPTION:Vous avez toujours rêvé de savoir dessiner ? Peindre ? Ou sculpter ? LA MBAA ACADÉMIE est faite pour vous ! En s’inspirant des disciplines de l’Académie de peinture et de sculpture du XVIIIe siècle créée à Besançon\, qui deviendra plus tard l’Institut Supérieur des Beaux-Arts (ISBA)\, la MBAA ACADÉMIE vous propose de participer à des ateliers créatifs\, ludiques et accessibles à toutes et tous. \nLes samedis 25 février\, 4\, 11 et 18 mars 2023\nAu choix : une session de 9h à 12h30 et une autre de 14h à 17h30 \nOuvert à tous les niveaux\nÀ partir de 16 ans\n10€/personne/atelier \n*Sur inscription\, dans la limite des places disponibles\, à reservationsmusees@besancon.fr
URL:https://www.mbaa.besancon.fr/event/mbaa-academie-petits-stages-pour-grandes-personnes/
CATEGORIES:atelier,public adulte,Stage
END:VEVENT
BEGIN:VEVENT
DTSTART;TZID=Europe/Paris:20230225T111500
DTEND;TZID=Europe/Paris:20230225T121500
DTSTAMP:20260423T184322
CREATED:20221205T111132Z
LAST-MODIFIED:20221205T111132Z
UID:6972-1677323700-1677327300@www.mbaa.besancon.fr
SUMMARY:Trésors de musique de chambre
DESCRIPTION:Réservation en ligne sur www.besancon-tourisme.com\nDans la limite des places disponibles. \n—\nSamedi 25 février 2023 à 11h15\nSophia Dussek (1775-1831) : redécouverte d’une harpiste et compositrice 5 sonates opus 2 pour harpe seule (1796)\nDurée du concert : 45 min\nGratuit\n—\nSamedi 25 février 2023 à 20h\nMozart et la «démocratie» du contrepoint\nQuatuor en sol mineur KV 478 pour cordes et pianoforte\, Trio en ut majeur KV 548 pour pianoforte\, violon et violoncelle\, Quatuor en mi bémol majeur KV 493 pour cordes et pianoforte\nDurée du concert 1h20 min\n25€/Tarif réduit 19€\n—\nDimanche 26 février 2023 à 11h15\nCordes d’équilibristes\nDuos pour deux violons\, violon et alto\, alto et violoncelle\, violon et violoncelle. Carl Stamitz (op. 18 N°6)\, Ignace Pleyel (B525)\, Luigi Boccherini (op.3)\, Antonin Reicha (op.1)\, Ludwig van Beethoven (WoO32)\, Joseph Haydn (Hob VI).\nDurée du concert 45 min\nGratuit\n—\nDimanche 26 février 2023 à 17h\nL’étonnante voix de Joseph Haydn\nMélodies pour mezzo-soprano et pianoforte Ariane à Naxos\nMélodies Écossais pour mezzo-soprano\, violon\, violoncelle et pianoforte\nDurée du concert 1h15 min\n25€/tarif réduit 19€
URL:https://www.mbaa.besancon.fr/event/tresors-de-musique-de-chambre-2/
CATEGORIES:concert,musique,public adulte
END:VEVENT
BEGIN:VEVENT
DTSTART;TZID=Europe/Paris:20230225T140000
DTEND;TZID=Europe/Paris:20230225T173000
DTSTAMP:20260423T184322
CREATED:20230124T150433Z
LAST-MODIFIED:20230124T150433Z
UID:7181-1677333600-1677346200@www.mbaa.besancon.fr
SUMMARY:MBAA ACADÉMIE - Petits stages pour grandes personnes
DESCRIPTION:Vous avez toujours rêvé de savoir dessiner ? Peindre ? Ou sculpter ? LA MBAA ACADÉMIE est faite pour vous ! En s’inspirant des disciplines de l’Académie de peinture et de sculpture du XVIIIe siècle créée à Besançon\, qui deviendra plus tard l’Institut Supérieur des Beaux-Arts (ISBA)\, la MBAA ACADÉMIE vous propose de participer à des ateliers créatifs\, ludiques et accessibles à toutes et tous. \nLes samedis 25 février\, 4\, 11 et 18 mars 2023\nAu choix : une session de 9h à 12h30 et une autre de 14h à 17h30 \nOuvert à tous les niveaux\nÀ partir de 16 ans\n10€/personne/atelier \n*Sur inscription\, dans la limite des places disponibles\, à reservationsmusees@besancon.fr
URL:https://www.mbaa.besancon.fr/event/mbaa-academie-petits-stages-pour-grandes-personnes-2/
CATEGORIES:atelier,public adulte,Stage
END:VEVENT
BEGIN:VEVENT
DTSTART;TZID=Europe/Paris:20230225T163000
DTEND;TZID=Europe/Paris:20230225T173000
DTSTAMP:20260423T184322
CREATED:20221205T114127Z
LAST-MODIFIED:20230127T081950Z
UID:7005-1677342600-1677346200@www.mbaa.besancon.fr
SUMMARY:Cycle de conférences autour de l'exposition "Le Beau Siècle"
DESCRIPTION:Gratuit\, sur réservation au 03 81 87 80 49\, dans la limite des places disponibles \n— \nMaël Tauziède-Espariat\, docteur en histoire de l’art :  « L’enseignement artistique et les écoles au XVIIIe siècle »\nSamedi 25 février à 16h30 \nThèse : « Être artiste en dehors de l’Académie royale de Peinture et de Sculpture : peinture et reconnaissance publique dans le Paris des Lumières (1751-1791) ». \n—\nChristine De Plas – Marcot\, formatrice en danse ancienne : « La danse au XVIIIe siècle »\nJeudi 9 mars à 18h (Nocturne MBAA)
URL:https://www.mbaa.besancon.fr/event/cycle-de-conferences-autour-de-lexposition-le-beau-siecle-3/
CATEGORIES:conférence,expo,public adulte
END:VEVENT
BEGIN:VEVENT
DTSTART;TZID=Europe/Paris:20230225T200000
DTEND;TZID=Europe/Paris:20230225T210000
DTSTAMP:20260423T184322
CREATED:20221205T111255Z
LAST-MODIFIED:20221205T111255Z
UID:6974-1677355200-1677358800@www.mbaa.besancon.fr
SUMMARY:Trésors de musique de chambre
DESCRIPTION:Réservation en ligne sur www.besancon-tourisme.com\nDans la limite des places disponibles. \n—\nSamedi 25 février 2023 à 20h\nMozart et la «démocratie» du contrepoint\nQuatuor en sol mineur KV 478 pour cordes et pianoforte\, Trio en ut majeur KV 548 pour pianoforte\, violon et violoncelle\, Quatuor en mi bémol majeur KV 493 pour cordes et pianoforte\nDurée du concert 1h20 min\n25€/Tarif réduit 19€\n—\nDimanche 26 février 2023 à 11h15\nCordes d’équilibristes\nDuos pour deux violons\, violon et alto\, alto et violoncelle\, violon et violoncelle. Carl Stamitz (op. 18 N°6)\, Ignace Pleyel (B525)\, Luigi Boccherini (op.3)\, Antonin Reicha (op.1)\, Ludwig van Beethoven (WoO32)\, Joseph Haydn (Hob VI).\nDurée du concert 45 min\nGratuit\n—\nDimanche 26 février 2023 à 17h\nL’étonnante voix de Joseph Haydn\nMélodies pour mezzo-soprano et pianoforte Ariane à Naxos\nMélodies Écossais pour mezzo-soprano\, violon\, violoncelle et pianoforte\nDurée du concert 1h15 min\n25€/tarif réduit 19€
URL:https://www.mbaa.besancon.fr/event/tresors-de-musique-de-chambre-3/
CATEGORIES:concert,musique,public adulte
END:VEVENT
END:VCALENDAR