BEGIN:VCALENDAR
VERSION:2.0
PRODID:-//musée des beaux-arts et d&#039;archéologie de Besançon - ECPv5.14.2.1//NONSGML v1.0//EN
CALSCALE:GREGORIAN
METHOD:PUBLISH
X-WR-CALNAME:musée des beaux-arts et d&#039;archéologie de Besançon
X-ORIGINAL-URL:https://www.mbaa.besancon.fr
X-WR-CALDESC:évènements pour musée des beaux-arts et d&#039;archéologie de Besançon
BEGIN:VTIMEZONE
TZID:Europe/Paris
BEGIN:DAYLIGHT
TZOFFSETFROM:+0100
TZOFFSETTO:+0200
TZNAME:CEST
DTSTART:20230326T010000
END:DAYLIGHT
BEGIN:STANDARD
TZOFFSETFROM:+0200
TZOFFSETTO:+0100
TZNAME:CET
DTSTART:20231029T010000
END:STANDARD
END:VTIMEZONE
BEGIN:VEVENT
DTSTART;TZID=Europe/Paris:20230210T103000
DTEND;TZID=Europe/Paris:20230210T123000
DTSTAMP:20260423T184204
CREATED:20230127T104040Z
LAST-MODIFIED:20230203T104901Z
UID:7293-1676025000-1676032200@www.mbaa.besancon.fr
SUMMARY:LES P’TITS CURIEUX 3 - 6 ANS / -	Mon petit herbier ! Le végétal dans les arts. Visite atelier
DESCRIPTION:Parcourez le musée pour découvrir les plantes et les fleurs qui se cachent dans les tableaux du musée grâce à une visite ludique et sensorielle. Pour compléter l’expérience un petit herbier sera créé pour comparer les plantes vues dans les tableaux avec celles de la nature. \nVendredi 10 février (vacances au musée) à 10h30  / COMPLET \n Dimanche 19 mars à 10h30 \n Vendredi 14 avril (vacances au musée) à 10h30 \n Mercredi 3 mai à 14h15 \n Dimanche 18 juin à 10h30 \n— \nDurée : 1h30 à 2h environ \nGratuit \nSur inscription au 03 81 87 80 49 ou par mail à reservationsmusees@besancon.fr
URL:https://www.mbaa.besancon.fr/event/les-ptits-curieux-3-6-ans-mon-petit-herbier-le-vegetal-dans-les-arts-visite-atelier-2/
CATEGORIES:atelier,jeune public,médiation,visite guidée
END:VEVENT
END:VCALENDAR