BEGIN:VCALENDAR
VERSION:2.0
PRODID:-//musée des beaux-arts et d&#039;archéologie de Besançon - ECPv5.14.2.1//NONSGML v1.0//EN
CALSCALE:GREGORIAN
METHOD:PUBLISH
X-WR-CALNAME:musée des beaux-arts et d&#039;archéologie de Besançon
X-ORIGINAL-URL:https://www.mbaa.besancon.fr
X-WR-CALDESC:évènements pour musée des beaux-arts et d&#039;archéologie de Besançon
BEGIN:VTIMEZONE
TZID:Europe/Paris
BEGIN:DAYLIGHT
TZOFFSETFROM:+0100
TZOFFSETTO:+0200
TZNAME:CEST
DTSTART:20230326T010000
END:DAYLIGHT
BEGIN:STANDARD
TZOFFSETFROM:+0200
TZOFFSETTO:+0100
TZNAME:CET
DTSTART:20231029T010000
END:STANDARD
END:VTIMEZONE
BEGIN:VEVENT
DTSTART;TZID=Europe/Paris:20230205T103000
DTEND;TZID=Europe/Paris:20230205T113000
DTSTAMP:20260423T184205
CREATED:20230127T092835Z
LAST-MODIFIED:20230127T092835Z
UID:7238-1675593000-1675596600@www.mbaa.besancon.fr
SUMMARY:Visite famille
DESCRIPTION:Un musée\, qu’est-ce que c’est\, qu’est-ce qu’on trouve dedans ? Une sculpture\, une mosaïque\, c’est fait comment ? Autour d’une sélection d’œuvres\, découverte des expositions permanentes ou temporaires en compagnie d’un guide\, pour les petits et les grands. \nLes dimanches au musée : Tous les 1ers dimanches du mois à 10h30 \nLes dimanches 5 février\,  5 mars\, 2 avril\, 30 avril\, 7 mai\, 4 juin. \nDurée une heure \nGratuit \nRéservation conseillée au 03 81 87 80 49 ou par mail reservationsmusees@besancon.fr
URL:https://www.mbaa.besancon.fr/event/visite-famille-26/
CATEGORIES:Famille,médiation,visite guidée
END:VEVENT
BEGIN:VEVENT
DTSTART;TZID=Europe/Paris:20230205T150000
DTEND;TZID=Europe/Paris:20230205T160000
DTSTAMP:20260423T184205
CREATED:20221205T111833Z
LAST-MODIFIED:20221205T111833Z
UID:6981-1675609200-1675612800@www.mbaa.besancon.fr
SUMMARY:Visite guidée de l'exposition "Le Beau Siècle"
DESCRIPTION:
URL:https://www.mbaa.besancon.fr/event/visite-guidee-de-lexposition-le-beau-siecle/
CATEGORIES:expo,tout public,visite guidée
END:VEVENT
BEGIN:VEVENT
DTSTART;TZID=Europe/Paris:20230205T150000
DTEND;TZID=Europe/Paris:20230205T160000
DTSTAMP:20260423T184205
CREATED:20230124T141131Z
LAST-MODIFIED:20230124T141131Z
UID:7091-1675609200-1675612800@www.mbaa.besancon.fr
SUMMARY:Visite guidée "Le Beau Siècle"
DESCRIPTION:
URL:https://www.mbaa.besancon.fr/event/visite-guidee-le-beau-siecle/
CATEGORIES:expo,tout public,visite guidée
END:VEVENT
BEGIN:VEVENT
DTSTART;TZID=Europe/Paris:20230205T163000
DTEND;TZID=Europe/Paris:20230205T173000
DTSTAMP:20260423T184205
CREATED:20230124T142427Z
LAST-MODIFIED:20230124T142427Z
UID:7133-1675614600-1675618200@www.mbaa.besancon.fr
SUMMARY:Visite "Où sont les femmes ? Représentation des femmes dans l'art et femmes artistes""
DESCRIPTION:
URL:https://www.mbaa.besancon.fr/event/visite-ou-sont-les-femmes-representation-des-femmes-dans-lart-et-femmes-artistes/
CATEGORIES:tout public,visite guidée
END:VEVENT
END:VCALENDAR