BEGIN:VCALENDAR
VERSION:2.0
PRODID:-//musée des beaux-arts et d&#039;archéologie de Besançon - ECPv5.14.2.1//NONSGML v1.0//EN
CALSCALE:GREGORIAN
METHOD:PUBLISH
X-WR-CALNAME:musée des beaux-arts et d&#039;archéologie de Besançon
X-ORIGINAL-URL:https://www.mbaa.besancon.fr
X-WR-CALDESC:évènements pour musée des beaux-arts et d&#039;archéologie de Besançon
BEGIN:VTIMEZONE
TZID:Europe/Paris
BEGIN:DAYLIGHT
TZOFFSETFROM:+0100
TZOFFSETTO:+0200
TZNAME:CEST
DTSTART:20230326T010000
END:DAYLIGHT
BEGIN:STANDARD
TZOFFSETFROM:+0200
TZOFFSETTO:+0100
TZNAME:CET
DTSTART:20231029T010000
END:STANDARD
END:VTIMEZONE
BEGIN:VEVENT
DTSTART;TZID=Europe/Paris:20230122T103000
DTEND;TZID=Europe/Paris:20230122T113000
DTSTAMP:20260423T200202
CREATED:20221125T153141Z
LAST-MODIFIED:20221125T153141Z
UID:6904-1674383400-1674387000@www.mbaa.besancon.fr
SUMMARY:LES GRANDS EXPLORATEURS 7 - 12 ANS / Atelier "Les P'tits cailloux"
DESCRIPTION:LES GRANDS EXPLORATEURS 7 – 12 ANS\nVisite-atelier autour des collections permanentes ou de l’exposition temporaire Le Beau Siècle.\nDurée : 2h\n5€ par enfant\nsur inscription * \n\n« Les p’tits cailloux » – Visite-atelier mosaïque\nDécouverte des mosaïques conservées au musée\, puis place à la pratique !\nLundi 26 décembre à 14h15 (vacances au musée)\nDimanche 22 janvier à 10h30 \n\n« Par Osiris! » – Visite-atelier hiéroglyphes\nDécouverte de l’Égypte ancienne et de son écriture si particulière\, le hiéroglyphe. Expérimentation en atelier\, au calame sur papyrus.\nDimanche 27 novembre à 10h30 \n\n« C’est dans les vieux pots qu’on fait les meilleures soupes… »\nVisite paléo-néolithique et modelage de céramique au colombin\, comme les premiers potiers préhistoriques.\nMercredi 25 janvier à 14h15 \n\n« La tête au carré » – Visite-atelier portrait au pastel à l’huile\nRencontre avec les visages qui ont traversé le temps\, construction d’un portait à la craie grasse (pastel à l’huile).\nMercredi 21 décembre à 14h15 (vacances scolaires) \n\n« Le Beau Siècle »\nEn s’inspirant de l’exposition le Beau Siècle\, un atelier de pratiques artistiques autour de l’exposition sera proposé aux enfants.\nMercredi 7 décembre à 14h15\nLundi 19 décembre à 14h15 (vacances scolaires)\nMercredi 11 janvier à 14h15 \n\n* INSCRIPTIONS\nRÉSERVATIONS :\nappelez le 03 81 87 80 49 ou envoyez un mail à : reservationsmusees@besancon.fr\nLe service de réservations est ouvert du lundi 9h au vendredi 12h.
URL:https://www.mbaa.besancon.fr/event/les-grands-explorateurs-7-12-ans-atelier-les-ptits-cailloux-2/
CATEGORIES:atelier,jeune public,visite guidée
END:VEVENT
BEGIN:VEVENT
DTSTART;TZID=Europe/Paris:20230122T110000
DTEND;TZID=Europe/Paris:20230122T120000
DTSTAMP:20260423T200202
CREATED:20221205T103244Z
LAST-MODIFIED:20221205T103244Z
UID:6963-1674385200-1674388800@www.mbaa.besancon.fr
SUMMARY:Visites-concerts Hors-les-murs
DESCRIPTION:Fantaisies de Telemann au coeur du Besançon XVIIIe\nFabrice Ferez hautboïste / Pascal Brunet\, guide-conférencier \nÉcoutez les Fantaisies de Georg Philipp Telemann dans différents hôtels particuliers et bâtiments emblématiques du XVIIIe siècle dont l’histoire vous sera racontée. \nAttention la jauge de chaque visite-concert est réduite. \n>Dimanche 22 janvier à 11h \nRéservations à partir du 10 novembre 2022 au 03 81 87 80 49
URL:https://www.mbaa.besancon.fr/event/visites-concerts-hors-les-murs-7/
CATEGORIES:concert,expo,public adulte,visite guidée
END:VEVENT
BEGIN:VEVENT
DTSTART;TZID=Europe/Paris:20230122T150000
DTEND;TZID=Europe/Paris:20230122T160000
DTSTAMP:20260423T200202
CREATED:20221124T095627Z
LAST-MODIFIED:20221124T095627Z
UID:6857-1674399600-1674403200@www.mbaa.besancon.fr
SUMMARY:Visite guidée exposition "Le Beau Siècle"
DESCRIPTION:
URL:https://www.mbaa.besancon.fr/event/visite-guidee-exposition-le-beau-siecle-8/
CATEGORIES:visite guidée
END:VEVENT
BEGIN:VEVENT
DTSTART;TZID=Europe/Paris:20230122T163000
DTEND;TZID=Europe/Paris:20230122T173000
DTSTAMP:20260423T200202
CREATED:20221124T094902Z
LAST-MODIFIED:20221124T094902Z
UID:6839-1674405000-1674408600@www.mbaa.besancon.fr
SUMMARY:Visite guidée "Les incontournables" - Visite découverte du musée
DESCRIPTION:
URL:https://www.mbaa.besancon.fr/event/visite-guidee-les-incontournables-visite-decouverte-du-musee/
CATEGORIES:visite guidée
END:VEVENT
BEGIN:VEVENT
DTSTART;TZID=Europe/Paris:20230122T170000
DTEND;TZID=Europe/Paris:20230122T180000
DTSTAMP:20260423T200202
CREATED:20221205T103445Z
LAST-MODIFIED:20230119T084118Z
UID:6965-1674406800-1674410400@www.mbaa.besancon.fr
SUMMARY:Concert "L'Intégrale des Fantaisies de Telemann"
DESCRIPTION:L’Intégrale des « Fantaisies de Georg Philipp Telemann au cœur du Besançon XVIIIe\nFabrice Ferez au hautbois et Lukas Schneider à la viole de gambe. \nÉcoutez les Fantaisies de Georg Philipp Telemann au sein de l’exposition « Le Beau Siècle » au musée des beaux-arts et d’archéologie. \nAttention la jauge de chaque visite-concert est réduite. \n>Dimanche 22 janvier à 17h \nGratuit \nRéservations par mail à reservationsmusees@besancon.fr ou au 03 81 87 80 49
URL:https://www.mbaa.besancon.fr/event/6965/
CATEGORIES:concert,expo,tout public
END:VEVENT
END:VCALENDAR