BEGIN:VCALENDAR
VERSION:2.0
PRODID:-//musée des beaux-arts et d&#039;archéologie de Besançon - ECPv5.14.2.1//NONSGML v1.0//EN
CALSCALE:GREGORIAN
METHOD:PUBLISH
X-WR-CALNAME:musée des beaux-arts et d&#039;archéologie de Besançon
X-ORIGINAL-URL:https://www.mbaa.besancon.fr
X-WR-CALDESC:évènements pour musée des beaux-arts et d&#039;archéologie de Besançon
BEGIN:VTIMEZONE
TZID:Europe/Paris
BEGIN:DAYLIGHT
TZOFFSETFROM:+0100
TZOFFSETTO:+0200
TZNAME:CEST
DTSTART:20220327T010000
END:DAYLIGHT
BEGIN:STANDARD
TZOFFSETFROM:+0200
TZOFFSETTO:+0100
TZNAME:CET
DTSTART:20221030T010000
END:STANDARD
END:VTIMEZONE
BEGIN:VEVENT
DTSTART;TZID=Europe/Paris:20221211T103000
DTEND;TZID=Europe/Paris:20221211T113000
DTSTAMP:20260423T214112
CREATED:20221124T102524Z
LAST-MODIFIED:20221124T102524Z
UID:6877-1670754600-1670758200@www.mbaa.besancon.fr
SUMMARY:Eveil des tout-petits 18 mois - 3 ans
DESCRIPTION:Ici on scrute les animaux dans un ou deux tableaux\, avec des bruits\, des comptines\, des histoires\, des marionnettes…\nAmenez votre propre doudou (chien\, vache\, mouton\, chèvre\, cochon ou cheval de préférence) !\nDurée : 30 min environ\nGratuit\nSur inscription* \n* INSCRIPTIONS\nRÉSERVATIONS :\nappelez le 03 81 87 80 49 ou envoyez un mail à : reservationsmusees@besancon.fr\nLe service de réservations est ouvert du lundi 9h au vendredi 12h.
URL:https://www.mbaa.besancon.fr/event/eveil-des-tout-petits-18-mois-3-ans-5/
CATEGORIES:jeune public,visite guidée
END:VEVENT
BEGIN:VEVENT
DTSTART;TZID=Europe/Paris:20221211T110000
DTEND;TZID=Europe/Paris:20221211T120000
DTSTAMP:20260423T214112
CREATED:20221205T102843Z
LAST-MODIFIED:20221205T102843Z
UID:6955-1670756400-1670760000@www.mbaa.besancon.fr
SUMMARY:Visites-concerts Hors-les-murs
DESCRIPTION:Fantaisies de Telemann au coeur du Besançon XVIIIe\nFabrice Ferez hautboïste / Pascal Brunet\, guide-conférencier \nÉcoutez les Fantaisies de Georg Philipp Telemann dans différents hôtels particuliers et bâtiments emblématiques du XVIIIe siècle dont l’histoire vous sera racontée. \nAttention la jauge de chaque visite-concert est réduite. \n>Dimanche 11 décembre à 11h et 15h\n>Samedi 21 janvier à 11h et 15h\n>Dimanche 22 janvier à 11h \nRéservations à partir du 10 novembre 2022 au 03 81 87 80 49
URL:https://www.mbaa.besancon.fr/event/visites-concerts-hors-les-murs-3/
CATEGORIES:concert,expo,public adulte,visite guidée
END:VEVENT
BEGIN:VEVENT
DTSTART;TZID=Europe/Paris:20221211T150000
DTEND;TZID=Europe/Paris:20221211T160000
DTSTAMP:20260423T214112
CREATED:20221124T095301Z
LAST-MODIFIED:20221124T095301Z
UID:6847-1670770800-1670774400@www.mbaa.besancon.fr
SUMMARY:Visite guidée exposition "Le Beau Siècle"
DESCRIPTION:
URL:https://www.mbaa.besancon.fr/event/visite-guidee-exposition-le-beau-siecle-3/
CATEGORIES:visite guidée
END:VEVENT
BEGIN:VEVENT
DTSTART;TZID=Europe/Paris:20221211T150000
DTEND;TZID=Europe/Paris:20221211T160000
DTSTAMP:20260423T214112
CREATED:20221205T102952Z
LAST-MODIFIED:20221205T102952Z
UID:6957-1670770800-1670774400@www.mbaa.besancon.fr
SUMMARY:Visites-concerts Hors-les-murs
DESCRIPTION:Fantaisies de Telemann au coeur du Besançon XVIIIe\nFabrice Ferez hautboïste / Pascal Brunet\, guide-conférencier \nÉcoutez les Fantaisies de Georg Philipp Telemann dans différents hôtels particuliers et bâtiments emblématiques du XVIIIe siècle dont l’histoire vous sera racontée. \nAttention la jauge de chaque visite-concert est réduite. \n>Dimanche 11 décembre à 15h\n>Samedi 21 janvier à 11h et 15h\n>Dimanche 22 janvier à 11h \nRéservations à partir du 10 novembre 2022 au 03 81 87 80 49
URL:https://www.mbaa.besancon.fr/event/visites-concerts-hors-les-murs-4/
CATEGORIES:concert,expo,public adulte,visite guidée
END:VEVENT
BEGIN:VEVENT
DTSTART;TZID=Europe/Paris:20221211T163000
DTEND;TZID=Europe/Paris:20221211T173000
DTSTAMP:20260423T214112
CREATED:20221124T094451Z
LAST-MODIFIED:20221124T094451Z
UID:6827-1670776200-1670779800@www.mbaa.besancon.fr
SUMMARY:Visite guidée "La Franche-Comté dans les Arts"
DESCRIPTION:
URL:https://www.mbaa.besancon.fr/event/visite-guidee-la-franche-comte-dans-les-arts-4/
CATEGORIES:visite guidée
END:VEVENT
END:VCALENDAR