BEGIN:VCALENDAR
VERSION:2.0
PRODID:-//musée des beaux-arts et d&#039;archéologie de Besançon - ECPv5.14.2.1//NONSGML v1.0//EN
CALSCALE:GREGORIAN
METHOD:PUBLISH
X-WR-CALNAME:musée des beaux-arts et d&#039;archéologie de Besançon
X-ORIGINAL-URL:https://www.mbaa.besancon.fr
X-WR-CALDESC:évènements pour musée des beaux-arts et d&#039;archéologie de Besançon
BEGIN:VTIMEZONE
TZID:Europe/Paris
BEGIN:DAYLIGHT
TZOFFSETFROM:+0100
TZOFFSETTO:+0200
TZNAME:CEST
DTSTART:20220327T010000
END:DAYLIGHT
BEGIN:STANDARD
TZOFFSETFROM:+0200
TZOFFSETTO:+0100
TZNAME:CET
DTSTART:20221030T010000
END:STANDARD
END:VTIMEZONE
BEGIN:VEVENT
DTSTART;TZID=Europe/Paris:20221204T103000
DTEND;TZID=Europe/Paris:20221204T113000
DTSTAMP:20260423T213349
CREATED:20221124T101534Z
LAST-MODIFIED:20221124T101655Z
UID:6865-1670149800-1670153400@www.mbaa.besancon.fr
SUMMARY:Visite famille
DESCRIPTION:Un musée\, qu’est-ce que c’est\, qu’est-ce qu’on trouve dedans ? Une sculpture\, une mosaïque\, c’est fait comment ? Autour d’une sélection d’œuvres\, découverte des expositions permanentes ou temporaires en compagnie d’un guide\, pour les petits et les grands.\nDurée : 1h\nGratuit\nRéservation conseillée* \n* INSCRIPTIONS\nRÉSERVATIONS :\nappelez le 03 81 87 80 49 ou envoyez un mail à : reservationsmusees@besancon.fr\nLe service de réservations est ouvert du lundi 9h au vendredi 12h.
URL:https://www.mbaa.besancon.fr/event/visite-famille-24/
CATEGORIES:Famille,visite guidée
END:VEVENT
BEGIN:VEVENT
DTSTART;TZID=Europe/Paris:20221204T150000
DTEND;TZID=Europe/Paris:20221204T160000
DTSTAMP:20260423T213349
CREATED:20221124T095240Z
LAST-MODIFIED:20221124T095240Z
UID:6845-1670166000-1670169600@www.mbaa.besancon.fr
SUMMARY:Visite guidée exposition "Le Beau Siècle"
DESCRIPTION:
URL:https://www.mbaa.besancon.fr/event/visite-guidee-exposition-le-beau-siecle-2/
CATEGORIES:visite guidée
END:VEVENT
BEGIN:VEVENT
DTSTART;TZID=Europe/Paris:20221204T163000
DTEND;TZID=Europe/Paris:20221204T173000
DTSTAMP:20260423T213349
CREATED:20221124T094404Z
LAST-MODIFIED:20221124T094404Z
UID:6825-1670171400-1670175000@www.mbaa.besancon.fr
SUMMARY:Visite guidée "Visages de femmes : muses\, madones ou Méduses ?"
DESCRIPTION:Les différents visages des femmes dans l’histoire de l’art.
URL:https://www.mbaa.besancon.fr/event/visite-guidee-visages-de-femmes-muses-madones-ou-meduses/
CATEGORIES:visite guidée
END:VEVENT
BEGIN:VEVENT
DTSTART;TZID=Europe/Paris:20221204T170000
DTEND;TZID=Europe/Paris:20221204T180000
DTSTAMP:20260423T213349
CREATED:20221201T154027Z
LAST-MODIFIED:20221201T154027Z
UID:6944-1670173200-1670176800@www.mbaa.besancon.fr
SUMMARY:"À la lisière" Paysage sonore par Aurélien Bertini
DESCRIPTION:« À la lisière » est une création sonore d’Aurélien Bertini inspirée du tableau de Gustave Courbet L’Hallali du Cerf.\nRéalisée à partir de paysages sonores et de scènes de chasse à courre\, cette composition propose à l’écoutant.e une immersion auditive pour (re)découvrir ce chef-d’œuvre du 19e siècle. Une approche sensible pour une expérience inédite.\nSamedi 3 et dimanche 4 décembre à 17h\nDurée : 1h \nRéservations conseillées\, dans la limite des places disponibles :\nAppelez le 03 81 87 80 49
URL:https://www.mbaa.besancon.fr/event/a-la-lisiere-paysage-sonore-par-aurelien-bertini-2/
CATEGORIES:musique,tout public
END:VEVENT
END:VCALENDAR