BEGIN:VCALENDAR
VERSION:2.0
PRODID:-//musée des beaux-arts et d&#039;archéologie de Besançon - ECPv5.14.2.1//NONSGML v1.0//EN
CALSCALE:GREGORIAN
METHOD:PUBLISH
X-WR-CALNAME:musée des beaux-arts et d&#039;archéologie de Besançon
X-ORIGINAL-URL:https://www.mbaa.besancon.fr
X-WR-CALDESC:évènements pour musée des beaux-arts et d&#039;archéologie de Besançon
BEGIN:VTIMEZONE
TZID:Europe/Paris
BEGIN:DAYLIGHT
TZOFFSETFROM:+0100
TZOFFSETTO:+0200
TZNAME:CEST
DTSTART:20220327T010000
END:DAYLIGHT
BEGIN:STANDARD
TZOFFSETFROM:+0200
TZOFFSETTO:+0100
TZNAME:CET
DTSTART:20221030T010000
END:STANDARD
END:VTIMEZONE
BEGIN:VEVENT
DTSTART;TZID=Europe/Paris:20221031T103000
DTEND;TZID=Europe/Paris:20221031T123000
DTSTAMP:20260423T225117
CREATED:20220930T135208Z
LAST-MODIFIED:20220930T135208Z
UID:6750-1667212200-1667219400@www.mbaa.besancon.fr
SUMMARY:Les P'tits curieux 3-6 ans / "Sacré scarabée !" - Visite-atelier moulage
DESCRIPTION:Après une visite découverte de l’Egypte ancienne\, les enfants réaliseront un moulage en argile d’un scarabée égyptien. \n  \nLundi 31 octobre à 10h30 (vacances au musée) \nMercredi 4 janvier à 14h15 \n  \nDurée : 1h30 à 2h environ \nSur inscription au 03 81 87 80 49 ou par mail à reservationsmusees@besancon.fr \nGratuit
URL:https://www.mbaa.besancon.fr/event/les-ptits-curieux-3-6-ans-sacre-scarabee-visite-atelier-moulage/
CATEGORIES:atelier,jeune public,visite guidée
END:VEVENT
END:VCALENDAR