BEGIN:VCALENDAR
VERSION:2.0
PRODID:-//musée des beaux-arts et d&#039;archéologie de Besançon - ECPv5.14.2.1//NONSGML v1.0//EN
CALSCALE:GREGORIAN
METHOD:PUBLISH
X-WR-CALNAME:musée des beaux-arts et d&#039;archéologie de Besançon
X-ORIGINAL-URL:https://www.mbaa.besancon.fr
X-WR-CALDESC:évènements pour musée des beaux-arts et d&#039;archéologie de Besançon
BEGIN:VTIMEZONE
TZID:Europe/Paris
BEGIN:DAYLIGHT
TZOFFSETFROM:+0100
TZOFFSETTO:+0200
TZNAME:CEST
DTSTART:20220327T010000
END:DAYLIGHT
BEGIN:STANDARD
TZOFFSETFROM:+0200
TZOFFSETTO:+0100
TZNAME:CET
DTSTART:20221030T010000
END:STANDARD
END:VTIMEZONE
BEGIN:VEVENT
DTSTART;TZID=Europe/Paris:20221030T103000
DTEND;TZID=Europe/Paris:20221030T113000
DTSTAMP:20260424T003147
CREATED:20220930T133724Z
LAST-MODIFIED:20220930T133724Z
UID:6733-1667125800-1667129400@www.mbaa.besancon.fr
SUMMARY:Visite famille
DESCRIPTION:Un musée\, qu’est-ce que c’est\, qu’est-ce qu’on trouve dedans ? Une sculpture\, une mosaïque\, c’est fait comment ? Autour d’une sélection d’œuvres\, découverte des expositions permanentes ou temporaires en compagnie d’un guide\, pour les petits et les grands. \nLes dimanches 30 octobre\, 6 novembre\, 4 et 29 janvier à 10h30 \n  \nDurée : 1h \nGratuit \nRéservation conseillée au 03 81 87 80 49 ou par mail à reservationsmusées@besancon.fr
URL:https://www.mbaa.besancon.fr/event/visite-famille-22/
CATEGORIES:Famille,jeune public,visite guidée
END:VEVENT
BEGIN:VEVENT
DTSTART;TZID=Europe/Paris:20221030T150000
DTEND;TZID=Europe/Paris:20221030T160000
DTSTAMP:20260424T003147
CREATED:20220930T132950Z
LAST-MODIFIED:20220930T132950Z
UID:6717-1667142000-1667145600@www.mbaa.besancon.fr
SUMMARY:Visite guidée "Les Incontournables du musée"
DESCRIPTION:
URL:https://www.mbaa.besancon.fr/event/visite-guidee-les-incontournables-du-musee-25/
CATEGORIES:tout public,visite guidée
END:VEVENT
BEGIN:VEVENT
DTSTART;TZID=Europe/Paris:20221030T163000
DTEND;TZID=Europe/Paris:20221030T173000
DTSTAMP:20260424T003147
CREATED:20220930T133413Z
LAST-MODIFIED:20220930T133413Z
UID:6729-1667147400-1667151000@www.mbaa.besancon.fr
SUMMARY:Visite guidée "Histoire et architecture du musée "
DESCRIPTION:
URL:https://www.mbaa.besancon.fr/event/visite-guidee-histoire-et-architecture-du-musee-2/
CATEGORIES:tout public,visite guidée
END:VEVENT
END:VCALENDAR