BEGIN:VCALENDAR
VERSION:2.0
PRODID:-//musée des beaux-arts et d&#039;archéologie de Besançon - ECPv5.14.2.1//NONSGML v1.0//EN
CALSCALE:GREGORIAN
METHOD:PUBLISH
X-WR-CALNAME:musée des beaux-arts et d&#039;archéologie de Besançon
X-ORIGINAL-URL:https://www.mbaa.besancon.fr
X-WR-CALDESC:évènements pour musée des beaux-arts et d&#039;archéologie de Besançon
BEGIN:VTIMEZONE
TZID:Europe/Paris
BEGIN:DAYLIGHT
TZOFFSETFROM:+0100
TZOFFSETTO:+0200
TZNAME:CEST
DTSTART:20220327T010000
END:DAYLIGHT
BEGIN:STANDARD
TZOFFSETFROM:+0200
TZOFFSETTO:+0100
TZNAME:CET
DTSTART:20221030T010000
END:STANDARD
END:VTIMEZONE
BEGIN:VEVENT
DTSTART;TZID=Europe/Paris:20221015T140000
DTEND;TZID=Europe/Paris:20221016T180000
DTSTAMP:20260424T003213
CREATED:20220930T132120Z
LAST-MODIFIED:20220930T132120Z
UID:6705-1665842400-1665943200@www.mbaa.besancon.fr
SUMMARY:La Fête de la Science / Les 15 et 16 octobre de 14h à 18h
DESCRIPTION:Sur le campus de la Bouloie\, à Besançon\, l’Université de Franche-Comté accueille la manifestation où sont proposées de nombreuses animations\, démonstrations et expériences avec des dizaines de chercheurs\, médiateurs et scientifiques en tous genres. \nDeux jours sont réservés aux visites des scolaires et deux après-midi à tous les curieux. Venez découvrir le stand des musées du Centre avec ses animations ! \n  \n> Sur le campus de la Bouloie \nVillage des sciences dans le Hall du Bâtiment Propédeutique et à la Maison des Etudiants \nAccueil au Bâtiment Propédeutique \nUFR Sciences et techniques \n16 route de Gray – Besançon \nRenseignements : sciences-arts-culture@univ-fcomte.fr
URL:https://www.mbaa.besancon.fr/event/la-fete-de-la-science-les-15-et-16-octobre-de-14h-a-18h/
CATEGORIES:atelier,Famille,hors les murs,jeune public,médiation,Partenariat
END:VEVENT
BEGIN:VEVENT
DTSTART;TZID=Europe/Paris:20221016T103000
DTEND;TZID=Europe/Paris:20221016T123000
DTSTAMP:20260424T003213
CREATED:20220930T134631Z
LAST-MODIFIED:20220930T134631Z
UID:6743-1665916200-1665923400@www.mbaa.besancon.fr
SUMMARY:Les P'tits curieux 3-6 ans / "À l'aise\, glaise!" - Manipulation & modelage
DESCRIPTION:Une statue\, c’est taillé dans la pierre ou dans le bois\, ou ça peut être modelée dans la terre avec ses petits doigts. Découverte de sculptures du musée et manipulation de moulages et d’argile. \nDurée : 1h30 à 2h environ \nSur inscription au 03 81 87 80 49 ou par mail à reservationsmusees@besancon.fr \ngratuit
URL:https://www.mbaa.besancon.fr/event/les-ptits-curieux-3-6-ans-a-laise-glaise-manipulation-modelage/
CATEGORIES:atelier,jeune public,visite guidée
END:VEVENT
BEGIN:VEVENT
DTSTART;TZID=Europe/Paris:20221016T150000
DTEND;TZID=Europe/Paris:20221016T160000
DTSTAMP:20260424T003213
CREATED:20220930T132851Z
LAST-MODIFIED:20220930T132851Z
UID:6713-1665932400-1665936000@www.mbaa.besancon.fr
SUMMARY:Visite guidée "Les Incontournables du musée"
DESCRIPTION:
URL:https://www.mbaa.besancon.fr/event/visite-guidee-les-incontournables-du-musee-23/
CATEGORIES:tout public,visite guidée
END:VEVENT
BEGIN:VEVENT
DTSTART;TZID=Europe/Paris:20221016T163000
DTEND;TZID=Europe/Paris:20221016T173000
DTSTAMP:20260424T003213
CREATED:20220930T133302Z
LAST-MODIFIED:20220930T133302Z
UID:6725-1665937800-1665941400@www.mbaa.besancon.fr
SUMMARY:Visite guidée "Où sont les femmes ? - Visite égalité hommes-femmes"
DESCRIPTION:
URL:https://www.mbaa.besancon.fr/event/visite-guidee-ou-sont-les-femmes-visite-egalite-hommes-femmes-2/
CATEGORIES:tout public,visite guidée
END:VEVENT
END:VCALENDAR