BEGIN:VCALENDAR
VERSION:2.0
PRODID:-//musée des beaux-arts et d&#039;archéologie de Besançon - ECPv5.14.2.1//NONSGML v1.0//EN
CALSCALE:GREGORIAN
METHOD:PUBLISH
X-WR-CALNAME:musée des beaux-arts et d&#039;archéologie de Besançon
X-ORIGINAL-URL:https://www.mbaa.besancon.fr
X-WR-CALDESC:évènements pour musée des beaux-arts et d&#039;archéologie de Besançon
BEGIN:VTIMEZONE
TZID:Europe/Paris
BEGIN:DAYLIGHT
TZOFFSETFROM:+0100
TZOFFSETTO:+0200
TZNAME:CEST
DTSTART:20220327T010000
END:DAYLIGHT
BEGIN:STANDARD
TZOFFSETFROM:+0200
TZOFFSETTO:+0100
TZNAME:CET
DTSTART:20221030T010000
END:STANDARD
END:VTIMEZONE
BEGIN:VEVENT
DTSTART;TZID=Europe/Paris:20220815T101500
DTEND;TZID=Europe/Paris:20220815T111500
DTSTAMP:20260424T031746
CREATED:20220621T141524Z
LAST-MODIFIED:20220621T141524Z
UID:6491-1660558500-1660562100@www.mbaa.besancon.fr
SUMMARY:Visite guidée "Où sont les femmes ? Visite égalité hommes-femmes"
DESCRIPTION:
URL:https://www.mbaa.besancon.fr/event/visite-guidee-ou-sont-les-femmes-visite-egalite-hommes-femmes/
CATEGORIES:tout public,visite guidée
END:VEVENT
BEGIN:VEVENT
DTSTART;TZID=Europe/Paris:20220815T101500
DTEND;TZID=Europe/Paris:20220815T114500
DTSTAMP:20260424T031746
CREATED:20220622T093154Z
LAST-MODIFIED:20220623T083503Z
UID:6565-1660558500-1660563900@www.mbaa.besancon.fr
SUMMARY:Vacances au musée ! Les p'tits curieux 3-6 ans "Sacré scarabée !"
DESCRIPTION:Visite-atelier autour des collections permanentes ou de l’exposition temporaire Charles Belle\nDurée : 1h30\nGratuit\nSur inscription* \n— \n\n« Sacré scarabée ! » – Visite-atelier moulage\nAprès une visite découverte de l’Égypte ancienne\, les enfants réaliseront un moulage en argile d’un scarabée égyptien.\nLe lundi 15 août à 10h15\n\n« À l’aise\, glaise! » – Manipulation & modelage\nUne statue\, c’est taillé dans la pierre ou dans le bois\, ou ça peut être modelé dans la terre avec ses petits doigts. Découverte de sculptures et manipulation de moulages et d’argile.\nLe dimanche 21 août à 10h15\n\n« Les p’tits cailloux » – Visite-atelier mosaïque« En 50 avant notre ère\, toute la Gaule occupée. Toute ? » Oui ! Même Besançon\, qui s’appelle alors Vesontio. Les Gallo-romains y construisent de très riches maisons. Découvre les mosaïques conservées au musée\, puis place à la pratique !\nLundi 1er août à 10h15\nMercredi 7 septembre à 10h15\nDimanche 25 septembre à 10h15\n\nLes nouveautés durant les vacances : \n\n« Du grand art ! » – Visite-atelier dessin participatif\nEn s’inspirant de l’exposition Charles Belle\, vous devrez collaborer pour créer une oeuvre participative XXL à la craie ! Pour les grands artistes en devenir.\nLe mercredi 24 août à 10h15\n\n« Comme un poisson dans l’eau » – Visite-atelier spéciale été (en partenariat avec les piscines municipales de Besançon)\nParcours les collections du musée pour découvrir les mythes et légendes qui évoquent l’eau\, puis personnalise ton tote bag pour ranger tes affaires de piscine.\nContinue l’aventure en allant dans une des piscines municipales de Besançon avec ton entrée gratuite.\nLe vendredi 26 août à 10h15\n\n*INSCRIPTIONS / RÉSERVATIONS :\nAppelez le 03 81 87 80 49 ou envoyez un mail à : reservationsmusees@besancon.fr\nLe service des réservations est ouvert du lundi 9h au vendredi 12h. En dehors de ces horaires\, vous pouvez contacter l’accueil du musée au 03 81 87 82 90.
URL:https://www.mbaa.besancon.fr/event/vacances-au-musee-les-ptits-curieux-3-6-ans-sacre-scarabee-2/
CATEGORIES:atelier,jeune public,visite guidée
END:VEVENT
END:VCALENDAR