BEGIN:VCALENDAR
VERSION:2.0
PRODID:-//musée des beaux-arts et d&#039;archéologie de Besançon - ECPv5.14.2.1//NONSGML v1.0//EN
CALSCALE:GREGORIAN
METHOD:PUBLISH
X-WR-CALNAME:musée des beaux-arts et d&#039;archéologie de Besançon
X-ORIGINAL-URL:https://www.mbaa.besancon.fr
X-WR-CALDESC:évènements pour musée des beaux-arts et d&#039;archéologie de Besançon
BEGIN:VTIMEZONE
TZID:Europe/Paris
BEGIN:DAYLIGHT
TZOFFSETFROM:+0100
TZOFFSETTO:+0200
TZNAME:CEST
DTSTART:20220327T010000
END:DAYLIGHT
BEGIN:STANDARD
TZOFFSETFROM:+0200
TZOFFSETTO:+0100
TZNAME:CET
DTSTART:20221030T010000
END:STANDARD
END:VTIMEZONE
BEGIN:VEVENT
DTSTART;TZID=Europe/Paris:20220718T100000
DTEND;TZID=Europe/Paris:20220722T170000
DTSTAMP:20260424T043103
CREATED:20220623T084528Z
LAST-MODIFIED:20220704T083336Z
UID:6642-1658138400-1658509200@www.mbaa.besancon.fr
SUMMARY:Camp d'été pour les 11-14 ans en partenariat avec l'association "Le Bastion"
DESCRIPTION:Du lundi 18 au vendredi 22 juillet \nDu lundi au jeudi de 14H00 à 17H00 / Le vendredi de 14H00 à 18H00 \nTu ne sais pas quoi faire de ton été ?\nAvec le Bastion nous t’avons concocté un camp d’été haut en couleur. Viens vivre une expérience artistique le temps d’une semaine accompagné par l’artiste Claire Passard. Dessins\, histoire de l’art\, musique et mise en mouvement seront de la partie. \n———— \nTarif : 30€ la semaine \n12 participants maximum \n———— \nRÉSERVATIONS :\nEnvoyez un mail à : reservation@lebastion.org
URL:https://www.mbaa.besancon.fr/event/camp-dete-pour-les-11-14-ans-en-partenariat-avec-lassociation-le-bastion/
CATEGORIES:art graphique,atelier,Histoire de l'art,musique,Partenariat,Stage
END:VEVENT
BEGIN:VEVENT
DTSTART;TZID=Europe/Paris:20220722T141500
DTEND;TZID=Europe/Paris:20220722T151500
DTSTAMP:20260424T043103
CREATED:20220621T142742Z
LAST-MODIFIED:20220621T142742Z
UID:6518-1658499300-1658502900@www.mbaa.besancon.fr
SUMMARY:Visite guidée "Les Incontournables du musée"
DESCRIPTION:
URL:https://www.mbaa.besancon.fr/event/visite-guidee-les-incontournables-du-musee-15/
CATEGORIES:tout public,visite guidée
END:VEVENT
BEGIN:VEVENT
DTSTART;TZID=Europe/Paris:20220722T141500
DTEND;TZID=Europe/Paris:20220722T161500
DTSTAMP:20260424T043103
CREATED:20220623T082021Z
LAST-MODIFIED:20220623T082021Z
UID:6624-1658499300-1658506500@www.mbaa.besancon.fr
SUMMARY:Vacances au musée ! Les grands explorateurs 7-12 ans "Comme un poisson dans l'eau"
DESCRIPTION:Visite-atelier autour des collections permanentes ou de l’exposition temporaire Charles Belle.\nDurée : 2h\,\n5€ par enfant\nSur inscription * \n\n  \nLes nouveautés pendant les vacances : \n  \n« Comme un poisson dans l’eau » – Visite-atelier spéciale été (en partenariat avec les piscines municipales de la ville)\nParcours les collections du musée pour découvrir les mythes et légendes qui évoquent l’eau\, puis personnalise ton tote bag pour ranger tes affaires de piscine.\nContinue l’aventure en allant dans une des piscines municipales de Besançon avec ton entrée gratuite.\nLes vendredis 22 juillet et 5 et 19 août à 14H15 \n\n*INSCRIPTIONS / RÉSERVATIONS :\nAppelez le 03 81 87 80 49 ou envoyez un mail à : reservationsmusees@besancon.fr\nLe service des réservations est ouvert du lundi 9h au vendredi 12h. En dehors de ces horaires\, vous pouvez contacter l’accueil du musée au 03 81 87 82 90.
URL:https://www.mbaa.besancon.fr/event/vacances-au-musee-les-grands-explorateurs-7-12-ans-comme-un-poisson-dans-leau-2/
CATEGORIES:atelier,jeune public,visite guidée
END:VEVENT
END:VCALENDAR