BEGIN:VCALENDAR
VERSION:2.0
PRODID:-//musée des beaux-arts et d&#039;archéologie de Besançon - ECPv5.14.2.1//NONSGML v1.0//EN
CALSCALE:GREGORIAN
METHOD:PUBLISH
X-WR-CALNAME:musée des beaux-arts et d&#039;archéologie de Besançon
X-ORIGINAL-URL:https://www.mbaa.besancon.fr
X-WR-CALDESC:évènements pour musée des beaux-arts et d&#039;archéologie de Besançon
BEGIN:VTIMEZONE
TZID:Europe/Paris
BEGIN:DAYLIGHT
TZOFFSETFROM:+0100
TZOFFSETTO:+0200
TZNAME:CEST
DTSTART:20220327T010000
END:DAYLIGHT
BEGIN:STANDARD
TZOFFSETFROM:+0200
TZOFFSETTO:+0100
TZNAME:CET
DTSTART:20221030T010000
END:STANDARD
END:VTIMEZONE
BEGIN:VEVENT
DTSTART;TZID=Europe/Paris:20220710T103000
DTEND;TZID=Europe/Paris:20220710T113000
DTSTAMP:20260424T042255
CREATED:20220622T064310Z
LAST-MODIFIED:20220622T064310Z
UID:6557-1657449000-1657452600@www.mbaa.besancon.fr
SUMMARY:ÉVEIL TOUT-PETITS 18 MOIS -3 ANS / Le 10 juillet à 10h30
DESCRIPTION:Ici on scrute les animaux dans un ou deux tableaux\, avec des bruits\, des comptines\, des histoires\, des marionnettes… Amenez votre propre doudou (chien\, vache\, mouton\, chèvre\, cochon ou cheval de préférence) ! \nLes dimanches 10 juillet\, 14 août et 11 septembre à 10h30\nDurée : 30 min environ\nGratuit.\nSur inscription* \n*INSCRIPTIONS / RÉSERVATIONS :\nAppelez le 03 81 87 80 49 ou envoyez un mail à : reservationsmusees@besancon.fr\nLe service des réservations est ouvert du lundi 9h au vendredi 12h. En dehors de ces horaires\, vous pouvez contacter l’accueil du musée au 03 81 87 82 90. \n 
URL:https://www.mbaa.besancon.fr/event/eveil-tout-petits-18-mois-3-ans-le-10-juillet-a-10h30/
CATEGORIES:jeune public,visite guidée
END:VEVENT
BEGIN:VEVENT
DTSTART;TZID=Europe/Paris:20220710T150000
DTEND;TZID=Europe/Paris:20220710T160000
DTSTAMP:20260424T042255
CREATED:20220621T135337Z
LAST-MODIFIED:20220621T135337Z
UID:6433-1657465200-1657468800@www.mbaa.besancon.fr
SUMMARY:Visite guidée de l'exposition "tous les reliefs d'une nuit. rétrospective Charles Belle"
DESCRIPTION:
URL:https://www.mbaa.besancon.fr/event/visite-guidee-de-lexposition-tous-les-reliefs-dune-nuit-retrospective-charles-belle-2/
CATEGORIES:expo,tout public,visite guidée
END:VEVENT
BEGIN:VEVENT
DTSTART;TZID=Europe/Paris:20220710T163000
DTEND;TZID=Europe/Paris:20220710T173000
DTSTAMP:20260424T042255
CREATED:20220621T140017Z
LAST-MODIFIED:20220621T140017Z
UID:6457-1657470600-1657474200@www.mbaa.besancon.fr
SUMMARY:Visite guidée "Les Incontournables du musée"
DESCRIPTION:
URL:https://www.mbaa.besancon.fr/event/visite-guidee-les-incontournables-du-musee-2/
CATEGORIES:tout public,visite guidée
END:VEVENT
END:VCALENDAR