BEGIN:VCALENDAR
VERSION:2.0
PRODID:-//musée des beaux-arts et d&#039;archéologie de Besançon - ECPv5.14.2.1//NONSGML v1.0//EN
CALSCALE:GREGORIAN
METHOD:PUBLISH
X-WR-CALNAME:musée des beaux-arts et d&#039;archéologie de Besançon
X-ORIGINAL-URL:https://www.mbaa.besancon.fr
X-WR-CALDESC:évènements pour musée des beaux-arts et d&#039;archéologie de Besançon
BEGIN:VTIMEZONE
TZID:Europe/Paris
BEGIN:DAYLIGHT
TZOFFSETFROM:+0100
TZOFFSETTO:+0200
TZNAME:CEST
DTSTART:20220327T010000
END:DAYLIGHT
BEGIN:STANDARD
TZOFFSETFROM:+0200
TZOFFSETTO:+0100
TZNAME:CET
DTSTART:20221030T010000
END:STANDARD
END:VTIMEZONE
BEGIN:VEVENT
DTSTART;TZID=Europe/Paris:20220703T103000
DTEND;TZID=Europe/Paris:20220703T113000
DTSTAMP:20260424T042253
CREATED:20220622T063805Z
LAST-MODIFIED:20220622T063805Z
UID:6549-1656844200-1656847800@www.mbaa.besancon.fr
SUMMARY:Visite famille / Le 3 juillet à 10h30
DESCRIPTION:Un musée\, qu’est-ce que c’est\, qu’est-ce qu’on trouve dedans ? Une sculpture\, une mosaïque\, c’est fait comment ? Autour d’une sélection d’oeuvres\, découverte des expositions permanentes ou temporaires en compagnie d’un guide\, pour les petits et les grands. \nLes dimanches 3 juillet\, 31 juillet\, 7 août\, et 4 septembre à 10H30\nDurée : 1h\nGratuit\nRéservation conseillée* \n*INSCRIPTIONS / RÉSERVATIONS :\nAppelez le 03 81 87 80 49 ou envoyez un mail à : reservationsmusees@besancon.fr\nLe service des réservations est ouvert du lundi 9h au vendredi 12h. En dehors de ces horaires\, vous pouvez contacter l’accueil du musée au 03 81 87 82 90.
URL:https://www.mbaa.besancon.fr/event/visite-famille-le-3-juillet-a-10h30/
CATEGORIES:Famille,visite guidée
END:VEVENT
BEGIN:VEVENT
DTSTART;TZID=Europe/Paris:20220703T150000
DTEND;TZID=Europe/Paris:20220703T160000
DTSTAMP:20260424T042253
CREATED:20220621T135302Z
LAST-MODIFIED:20220621T135302Z
UID:6431-1656860400-1656864000@www.mbaa.besancon.fr
SUMMARY:Visite guidée de l'exposition "tous les reliefs d'une nuit. rétrospective Charles Belle"
DESCRIPTION:
URL:https://www.mbaa.besancon.fr/event/visite-guidee-de-lexposition-tous-les-reliefs-dune-nuit-retrospective-charles-belle/
CATEGORIES:expo,tout public,visite guidée
END:VEVENT
BEGIN:VEVENT
DTSTART;TZID=Europe/Paris:20220703T150000
DTEND;TZID=Europe/Paris:20220703T160000
DTSTAMP:20260424T042253
CREATED:20220621T144430Z
LAST-MODIFIED:20220621T144430Z
UID:6541-1656860400-1656864000@www.mbaa.besancon.fr
SUMMARY:Visite à double voix avec Charles Belle
DESCRIPTION:Charles Belle accompagne les visiteurs dans l’exposition avec des personnalités qui ont répondu présents à son invitation \n 3 juillet à 15h : Grégory Jacquot\, botaniste \n 10 septembre à 14h30 : Yves Michaud\, philosophe\, critique d’art et ancien directeur de l’ENSBA \n  \nINSCRIPTIONS / RÉSERVATIONS :\nAppelez le 03 81 87 80 49 ou envoyez un mail à : reservationsmusees@besancon.fr
URL:https://www.mbaa.besancon.fr/event/visite-a-double-voix-avec-charles-belle/
CATEGORIES:expo,rencontre
END:VEVENT
BEGIN:VEVENT
DTSTART;TZID=Europe/Paris:20220703T163000
DTEND;TZID=Europe/Paris:20220703T173000
DTSTAMP:20260424T042253
CREATED:20220621T135950Z
LAST-MODIFIED:20220621T135950Z
UID:6455-1656865800-1656869400@www.mbaa.besancon.fr
SUMMARY:Visite guidée "Les Incontournables du musée"
DESCRIPTION:
URL:https://www.mbaa.besancon.fr/event/visite-guidee-les-incontournables-du-musee/
CATEGORIES:tout public,visite guidée
END:VEVENT
END:VCALENDAR