BEGIN:VCALENDAR
VERSION:2.0
PRODID:-//musée des beaux-arts et d&#039;archéologie de Besançon - ECPv5.14.2.1//NONSGML v1.0//EN
CALSCALE:GREGORIAN
METHOD:PUBLISH
X-WR-CALNAME:musée des beaux-arts et d&#039;archéologie de Besançon
X-ORIGINAL-URL:https://www.mbaa.besancon.fr
X-WR-CALDESC:évènements pour musée des beaux-arts et d&#039;archéologie de Besançon
BEGIN:VTIMEZONE
TZID:Europe/Paris
BEGIN:DAYLIGHT
TZOFFSETFROM:+0100
TZOFFSETTO:+0200
TZNAME:CEST
DTSTART:20220327T010000
END:DAYLIGHT
BEGIN:STANDARD
TZOFFSETFROM:+0200
TZOFFSETTO:+0100
TZNAME:CET
DTSTART:20221030T010000
END:STANDARD
END:VTIMEZONE
BEGIN:VEVENT
DTSTART;TZID=Europe/Paris:20220623T100000
DTEND;TZID=Europe/Paris:20220626T180000
DTSTAMP:20260424T054444
CREATED:20220201T144557Z
LAST-MODIFIED:20220201T144557Z
UID:6149-1655978400-1656266400@www.mbaa.besancon.fr
SUMMARY:Jours de danse
DESCRIPTION:Du 23 juin au 26 juin \nPlus d’infos sur : http://joursdedanse.compagnie-pernette.com/
URL:https://www.mbaa.besancon.fr/event/jours-de-danse/
CATEGORIES:Danse,Partenariat
END:VEVENT
BEGIN:VEVENT
DTSTART;TZID=Europe/Paris:20220626T103000
DTEND;TZID=Europe/Paris:20220626T123000
DTSTAMP:20260424T054444
CREATED:20220201T153810Z
LAST-MODIFIED:20220201T153850Z
UID:6179-1656239400-1656246600@www.mbaa.besancon.fr
SUMMARY:Les Grands explorateurs 7-12 ans / Atelier "Par Osiris !"
DESCRIPTION:Par Osiris! – Visite-atelier hiéroglyphes \n>Le dimanche  26 juin à 10h30 \nDécouverte de l’Egypte ancienne et de son écriture si particulière\, le hiéroglyphe. \nExpérimentation en atelier\, au calame sur papyrus. \nDurée : 2h\n5€ par enfant\nSur inscription au 03 81 87 80 49 ou par mail à reservationsmusees@besancon.fr 
URL:https://www.mbaa.besancon.fr/event/les-grands-explorateurs-7-12-ans-atelier-par-osiris-4/
CATEGORIES:atelier,jeune public,visite guidée
END:VEVENT
BEGIN:VEVENT
DTSTART;TZID=Europe/Paris:20220626T150000
DTEND;TZID=Europe/Paris:20220626T160000
DTSTAMP:20260424T054444
CREATED:20220201T095219Z
LAST-MODIFIED:20220201T095219Z
UID:6108-1656255600-1656259200@www.mbaa.besancon.fr
SUMMARY:Visite guidée de l'exposition "Charles Belle : Tous les reliefs d'une nuit"
DESCRIPTION:
URL:https://www.mbaa.besancon.fr/event/visite-guidee-de-lexposition-charles-belle-tous-les-reliefs-dune-nuit-8/
CATEGORIES:expo,visite guidée
END:VEVENT
BEGIN:VEVENT
DTSTART;TZID=Europe/Paris:20220626T163000
DTEND;TZID=Europe/Paris:20220626T173000
DTSTAMP:20260424T054444
CREATED:20220201T100701Z
LAST-MODIFIED:20220201T100701Z
UID:6128-1656261000-1656264600@www.mbaa.besancon.fr
SUMMARY:Visite guidée découverte : Les incontournables du musée
DESCRIPTION:
URL:https://www.mbaa.besancon.fr/event/visite-guidee-decouverte-les-incontournables-du-musee-6/
CATEGORIES:visite guidée
END:VEVENT
BEGIN:VEVENT
DTSTART;TZID=Europe/Paris:20220626T180000
DTEND;TZID=Europe/Paris:20220626T193000
DTSTAMP:20260424T054444
CREATED:20220621T144819Z
LAST-MODIFIED:20220623T073858Z
UID:6545-1656266400-1656271800@www.mbaa.besancon.fr
SUMMARY:Concert - Performance "Charles Belle et Ben Van Den Dungen avec The Sangoma Everett Trio" / Dimanche 26 juin à 18h30
DESCRIPTION:Charles Belle et Ben Van Den Dungen avec The Sangoma Everett Trio \nBen van den Dungen – saxophone\nWilhelm Coppey – piano\nCristophe Lincontang – contrebasse\nSangoma Everett – drums \nLa rencontre avec Ben Van Den Dungen a eu lieu autour de leur passion commune pour John Coltrane. C’est ainsi qu’est née leur envie de parcourir ensemble ces territoires d’émotion pure\, de jouissance de peindre\, de jouer et de créer.\nPour cet événement si particulier\, Ben Van Den Dungen partagera la scène avec The Sangoma Everett Trio. \nDimanche 26 juin 2022 à 18h30\nDurée 2h\nGratuit dans la limite des places disponibles\n*Réservation conseillée \n  \n*INSCRIPTIONS / RÉSERVATIONS :\nAppelez le 03 81 87 80 49 ou envoyez un mail à : reservationsmusees@besancon.fr \n 
URL:https://www.mbaa.besancon.fr/event/concert-performance-charles-belle-et-ben-van-den-dungen-avec-the-sangoma-everett-trio-dimanche-26-juin-a-18h00/
CATEGORIES:concert,expo,rencontre
END:VEVENT
END:VCALENDAR