BEGIN:VCALENDAR
VERSION:2.0
PRODID:-//musée des beaux-arts et d&#039;archéologie de Besançon - ECPv5.14.2.1//NONSGML v1.0//EN
CALSCALE:GREGORIAN
METHOD:PUBLISH
X-WR-CALNAME:musée des beaux-arts et d&#039;archéologie de Besançon
X-ORIGINAL-URL:https://www.mbaa.besancon.fr
X-WR-CALDESC:évènements pour musée des beaux-arts et d&#039;archéologie de Besançon
BEGIN:VTIMEZONE
TZID:Europe/Paris
BEGIN:DAYLIGHT
TZOFFSETFROM:+0100
TZOFFSETTO:+0200
TZNAME:CEST
DTSTART:20220327T010000
END:DAYLIGHT
BEGIN:STANDARD
TZOFFSETFROM:+0200
TZOFFSETTO:+0100
TZNAME:CET
DTSTART:20221030T010000
END:STANDARD
END:VTIMEZONE
BEGIN:VEVENT
DTSTART;TZID=Europe/Paris:20220608T141500
DTEND;TZID=Europe/Paris:20220608T161500
DTSTAMP:20260424T055112
CREATED:20220201T153029Z
LAST-MODIFIED:20220201T153029Z
UID:6173-1654697700-1654704900@www.mbaa.besancon.fr
SUMMARY:Les P'tits curieux 3-6 ans / Atelier "Du grand art !"
DESCRIPTION:Du grand art ! – Visite-atelier dessin participatif \n>Le mercredi 8 juin à 14h15 \nEn s’inspirant de l’exposition Charles Belle\, vous devrez collaborer pour créer une œuvre participative XXL ! Pour les grands artistes en devenir. \nDurée : 1h30 à 2h environ\nGratuit\nSur inscription au 03 81 87 80 49 ou par mail à reservationsmusees@besancon.fr 
URL:https://www.mbaa.besancon.fr/event/les-ptits-curieux-3-6-ans-atelier-du-grand-art-2/
CATEGORIES:atelier,jeune public,visite guidée
END:VEVENT
END:VCALENDAR