BEGIN:VCALENDAR
VERSION:2.0
PRODID:-//musée des beaux-arts et d&#039;archéologie de Besançon - ECPv5.14.2.1//NONSGML v1.0//EN
CALSCALE:GREGORIAN
METHOD:PUBLISH
X-WR-CALNAME:musée des beaux-arts et d&#039;archéologie de Besançon
X-ORIGINAL-URL:https://www.mbaa.besancon.fr
X-WR-CALDESC:évènements pour musée des beaux-arts et d&#039;archéologie de Besançon
BEGIN:VTIMEZONE
TZID:Europe/Paris
BEGIN:DAYLIGHT
TZOFFSETFROM:+0100
TZOFFSETTO:+0200
TZNAME:CEST
DTSTART:20220327T010000
END:DAYLIGHT
BEGIN:STANDARD
TZOFFSETFROM:+0200
TZOFFSETTO:+0100
TZNAME:CET
DTSTART:20221030T010000
END:STANDARD
END:VTIMEZONE
BEGIN:VEVENT
DTSTART;TZID=Europe/Paris:20220417T103000
DTEND;TZID=Europe/Paris:20220417T123000
DTSTAMP:20260424T082500
CREATED:20220201T151517Z
LAST-MODIFIED:20220201T151517Z
UID:6164-1650191400-1650198600@www.mbaa.besancon.fr
SUMMARY:Les P'tits curieux 3-6 ans / Atelier "Les P'tits cailloux"
DESCRIPTION:Les p’tits cailloux – Visite-atelier mosaïque \n>Le dimanche 17 avril à 10h30 \n>Les mercredis 30 mars et 22 juin à 14h15 \n« En 50 avant Jésus Christ\, toute la Gaule occupée. Toute ? » Oui ! Même Besançon\, qui s’appelle alors Vesontio. Les Gallo-romains y construisent de très riches maisons. Découverte des mosaïques conservées au musée\, puis place à la pratique ! \nGratuit \nDurée 1h30 à 2h environ \nSur réservation au 03 81 87 80 49 ou par mail à reservationsmusees@besancon.fr 
URL:https://www.mbaa.besancon.fr/event/les-ptits-curieux-3-6-ans-atelier-les-ptits-cailloux-2/
CATEGORIES:atelier,jeune public,visite guidée
END:VEVENT
BEGIN:VEVENT
DTSTART;TZID=Europe/Paris:20220417T150000
DTEND;TZID=Europe/Paris:20220417T160000
DTSTAMP:20260424T082500
CREATED:20220201T094503Z
LAST-MODIFIED:20220201T094503Z
UID:6097-1650207600-1650211200@www.mbaa.besancon.fr
SUMMARY:Visite guidée découverte : Les Incontournables du musée
DESCRIPTION:
URL:https://www.mbaa.besancon.fr/event/visite-guidee-decouverte-les-incontournables-du-musee-3/
CATEGORIES:tout public,visite guidée
END:VEVENT
BEGIN:VEVENT
DTSTART;TZID=Europe/Paris:20220417T163000
DTEND;TZID=Europe/Paris:20220417T173000
DTSTAMP:20260424T082500
CREATED:20220201T100049Z
LAST-MODIFIED:20220201T100049Z
UID:6119-1650213000-1650216600@www.mbaa.besancon.fr
SUMMARY:Visite guidée "Sur les pas des Granvelle" / Le musée du Temps s'invite au MBAA
DESCRIPTION:
URL:https://www.mbaa.besancon.fr/event/visite-guidee-sur-les-pas-des-granvelle-le-musee-du-temps-sinvite-au-mbaa-2/
CATEGORIES:visite guidée
END:VEVENT
END:VCALENDAR