BEGIN:VCALENDAR
VERSION:2.0
PRODID:-//musée des beaux-arts et d&#039;archéologie de Besançon - ECPv5.14.2.1//NONSGML v1.0//EN
CALSCALE:GREGORIAN
METHOD:PUBLISH
X-WR-CALNAME:musée des beaux-arts et d&#039;archéologie de Besançon
X-ORIGINAL-URL:https://www.mbaa.besancon.fr
X-WR-CALDESC:évènements pour musée des beaux-arts et d&#039;archéologie de Besançon
BEGIN:VTIMEZONE
TZID:Europe/Paris
BEGIN:DAYLIGHT
TZOFFSETFROM:+0100
TZOFFSETTO:+0200
TZNAME:CEST
DTSTART:20220327T010000
END:DAYLIGHT
BEGIN:STANDARD
TZOFFSETFROM:+0200
TZOFFSETTO:+0100
TZNAME:CET
DTSTART:20221030T010000
END:STANDARD
END:VTIMEZONE
BEGIN:VEVENT
DTSTART;VALUE=DATE:20220409
DTEND;VALUE=DATE:20220410
DTSTAMP:20260424T084256
CREATED:20220201T093006Z
LAST-MODIFIED:20220201T093006Z
UID:6082-1649462400-1649548799@www.mbaa.besancon.fr
SUMMARY:Don du sang / Le samedi 9 avril au MBAA
DESCRIPTION:Don du sang au musée avec l’Etablissement Français du Sang et le Rotary club \nEntrée gratuite et visite guidée pour les donneuses et les donneurs
URL:https://www.mbaa.besancon.fr/event/don-du-sang-le-samedi-9-avril-au-mbaa/
CATEGORIES:Evénement,Partenariat,tout public,visite guidée
END:VEVENT
BEGIN:VEVENT
DTSTART;TZID=Europe/Paris:20220409T143000
DTEND;TZID=Europe/Paris:20220409T163000
DTSTAMP:20260424T084256
CREATED:20220202T082409Z
LAST-MODIFIED:20220202T082423Z
UID:6213-1649514600-1649521800@www.mbaa.besancon.fr
SUMMARY:Journée Tourisme et Handicap : L’accessibilité aux musées du Centre pour le handicap auditif
DESCRIPTION:Le samedi 9 avril à 14h30 \nDébat sur l’accueil des sourds aux musées du Centre et visite sur les sens dans l’art Les sens de visite! \nEn partenariat avec APEDA et Sors les mains d’tes poches. \nEn présence d’un interprète LSF \nIntervenants munis d’un masque inclusif\, personne référente pour aider à la lecture labiale. \n  \nGratuit  pour les personnes en situation de handicap et les accompagnateurs. \nRéservation obligatoire pour les animations : \nMiléna Buguet \nRéférente accessibilité \nmilena.buguet@besancon.fr \n03 81 41 57 86
URL:https://www.mbaa.besancon.fr/event/journee-tourisme-et-handicap-laccessibilite-aux-musees-du-centre-pour-le-handicap-auditif/
CATEGORIES:handicap,rencontre
END:VEVENT
BEGIN:VEVENT
DTSTART;TZID=Europe/Paris:20220409T150000
DTEND;TZID=Europe/Paris:20220409T161500
DTSTAMP:20260424T084256
CREATED:20220201T141015Z
LAST-MODIFIED:20220201T141218Z
UID:6137-1649516400-1649520900@www.mbaa.besancon.fr
SUMMARY:Conférence autour des 18 expositions en France "Arts de l'Islam\, un passé pour un présent"
DESCRIPTION:Le samedi 9 avril à 15h \nEléonore Belin\, Les arts de l’Islam au MBAA \nRéservation conseillée au 03 81 87 80 49 ou par mail à reservationsmusees@besancon.fr \nPlaces limitées
URL:https://www.mbaa.besancon.fr/event/conference-autour-des-18-expositions-en-france-arts-de-lislam-un-passe-pour-un-present/
CATEGORIES:conférence,Histoire de l'art,public adulte
END:VEVENT
END:VCALENDAR