BEGIN:VCALENDAR
VERSION:2.0
PRODID:-//musée des beaux-arts et d&#039;archéologie de Besançon - ECPv5.14.2.1//NONSGML v1.0//EN
CALSCALE:GREGORIAN
METHOD:PUBLISH
X-WR-CALNAME:musée des beaux-arts et d&#039;archéologie de Besançon
X-ORIGINAL-URL:https://www.mbaa.besancon.fr
X-WR-CALDESC:évènements pour musée des beaux-arts et d&#039;archéologie de Besançon
BEGIN:VTIMEZONE
TZID:Europe/Paris
BEGIN:DAYLIGHT
TZOFFSETFROM:+0100
TZOFFSETTO:+0200
TZNAME:CEST
DTSTART:20220327T010000
END:DAYLIGHT
BEGIN:STANDARD
TZOFFSETFROM:+0200
TZOFFSETTO:+0100
TZNAME:CET
DTSTART:20221030T010000
END:STANDARD
END:VTIMEZONE
BEGIN:VEVENT
DTSTART;TZID=Europe/Paris:20220319T100000
DTEND;TZID=Europe/Paris:20220320T180000
DTSTAMP:20260424T094516
CREATED:20220201T093153Z
LAST-MODIFIED:20220201T093153Z
UID:6083-1647684000-1647799200@www.mbaa.besancon.fr
SUMMARY:Weekend Télérama / Les 19 et 20 mars 2022
DESCRIPTION:Cette année encore\, l’hebdomadaire Télérama propose à ses lecteurs de découvrir gratuitement des centaines de lieux d’art en France\, musée\, galeries et autres Frac. \nEntrée gratuite pour les porteurs du pass valable pour 4 personnes à découper dans Télérama.
URL:https://www.mbaa.besancon.fr/event/weekend-telerama-les-19-et-20-mars-2022/
CATEGORIES:atelier,expo,Famille,manifestation,médiation,Partenariat,visite guidée
END:VEVENT
BEGIN:VEVENT
DTSTART;TZID=Europe/Paris:20220319T150000
DTEND;TZID=Europe/Paris:20220319T170000
DTSTAMP:20260424T094516
CREATED:20220202T081204Z
LAST-MODIFIED:20220202T081204Z
UID:6203-1647702000-1647709200@www.mbaa.besancon.fr
SUMMARY:Le MDT s'invite au MBAA / Atelier "Le temps suspendu - l’art de la Nature Morte" (7 - 12 ans)
DESCRIPTION:Le temps qui passe a toujours su fasciner les artistes… À travers cette visite-atelier autour des natures mortes et de la technique du collage\, nous aborderons la notion abstraite du temps en nous intéressant plus particulièrement à sa représentation symbolique et aux objets qui le matérialisent. \n>Les samedis 19 mars\, 14 mai et 4 juin à 15h  \n> Le jeudi 17 et 24 février et 21\, 28 avril à 10h30  (vacances scolaires) \nDurée 2h \nSur inscription au 03 81 87 80 49 ou par mail à reservationsmusees@besancon.fr \n5€ par enfant
URL:https://www.mbaa.besancon.fr/event/le-mdt-sinvite-au-mbaa-atelier-le-temps-suspendu-lart-de-la-nature-morte-7-12-ans-2/
CATEGORIES:atelier,jeune public,visite guidée
END:VEVENT
END:VCALENDAR